BEGIN:VCALENDAR
PRODID:NingEventWidget-v1
VERSION:2.0
METHOD:PUBLISH
BEGIN:VTIMEZONE
TZID:Pacific/Midway
X-LIC-LOCATION:Pacific/Midway
BEGIN:STANDARD
TZOFFSETFROM:-1100
TZOFFSETTO:-1100
TZNAME:SST
DTSTART:19700101T000000
END:STANDARD
END:VTIMEZONE
BEGIN:VEVENT
UID:5072275:Event:565669
DTSTAMP:20260423T202318Z
SUMMARY:PROWLER BOY PRODUCTIONS SECOND INDOOR-- OUTDOOR-- CAR & TRUCK 
 SHOW -Monroe, GA
DESCRIPTION:Our Second Indoor -- Outdoor Car & Truck Show\nBIGGER THE
 N EVERY\nRegistration 10:00 to 1:00 Awards @ 2:00\nRegistration Fee: $
 20.00\nAWARDS:\nBest In Show\nBest :\nChevy, Ford, Mopar, Truck,\nOrph
 an, BOPC, Hand Built, Rat Rod,\nImport & Work in Progress\nPlus Top 1
 0\nThere is a limited number of spaces inside\nit first come basis\nTh
 e DJ Will be spinning the oldies\nDoor Prizes  --50/50--\n\nFor more 
 information visit https://www.southeastwheelsevents.com/events/prowler
 -boy-productions-second-indoor-outdoor-car-truck-show
DTSTART;TZID=Pacific/Midway:20121027T100000
DTEND;TZID=Pacific/Midway:20121027T140000
CATEGORIES:car, "&", truck, show
LOCATION:Pickers Paradise Antique Mall    Behind BB&T Bank
WEBSITE:http://goo.gl/maps/l1cNM
URL:http://goo.gl/maps/l1cNM
CONTACT:770-316-1040
ORGANIZER:Prowler Boy Productions
ATTACH;FMTTYPE="image/jpeg":http://storage.ning.com/topology/rest/1.0/
 file/get/967627577?profile=original
ATTENDEE;ROLE=REQ-PARTICIPANT;PARTSTAT=ACCEPTED;RSVP=TRUE;CN="johnny n
 owon":https://www.southeastwheelsevents.com/profile/johnnynowon
ATTENDEE;ROLE=REQ-PARTICIPANT;PARTSTAT=ACCEPTED;RSVP=TRUE;CN=MsHemi:ht
 tps://www.southeastwheelsevents.com/profile/MsHemi
ATTENDEE;ROLE=REQ-PARTICIPANT;PARTSTAT=ACCEPTED;RSVP=TRUE;CN="Mike & B
 everly Raznoff":https://www.southeastwheelsevents.com/profile/BeverlyR
 aznoff
ATTENDEE;ROLE=REQ-PARTICIPANT;PARTSTAT=ACCEPTED;RSVP=TRUE;CN="Darlene 
 Scott":https://www.southeastwheelsevents.com/profile/Darlene
ATTENDEE;ROLE=REQ-PARTICIPANT;PARTSTAT=ACCEPTED;RSVP=TRUE;CN="Jerry Jo
 nes":https://www.southeastwheelsevents.com/profile/JerryJOnes
ATTENDEE;ROLE=REQ-PARTICIPANT;PARTSTAT=ACCEPTED;RSVP=TRUE;CN="Jeff Rut
 herford":https://www.southeastwheelsevents.com/profile/JeffreyRutherfo
 rd
ATTENDEE;ROLE=REQ-PARTICIPANT;PARTSTAT=ACCEPTED;RSVP=TRUE;CN="Ed Mistr
 etta":https://www.southeastwheelsevents.com/profile/EdMistretta
ATTENDEE;ROLE=REQ-PARTICIPANT;PARTSTAT=ACCEPTED;RSVP=TRUE;CN="Richard 
 Scott":https://www.southeastwheelsevents.com/profile/RichardScott
ATTENDEE;ROLE=REQ-PARTICIPANT;PARTSTAT=TENTATIVE;RSVP=TRUE;CN="Mary Ja
 ne McDaniel":https://www.southeastwheelsevents.com/profile/MaryJaneMcD
 aniel
ATTENDEE;ROLE=REQ-PARTICIPANT;PARTSTAT=TENTATIVE;RSVP=TRUE;CN="Bob Har
 tman":https://www.southeastwheelsevents.com/profile/BobHartman
END:VEVENT
END:VCALENDAR
