BEGIN:VCALENDAR
PRODID:NingEventWidget-v1
VERSION:2.0
METHOD:PUBLISH
BEGIN:VTIMEZONE
TZID:Pacific/Midway
X-LIC-LOCATION:Pacific/Midway
BEGIN:STANDARD
TZOFFSETFROM:-1100
TZOFFSETTO:-1100
TZNAME:SST
DTSTART:19700101T000000
END:STANDARD
END:VTIMEZONE
BEGIN:VEVENT
UID:5072275:Event:621989
DTSTAMP:20260423T152919Z
SUMMARY:Public Safety & Military Appreciation Day -Bogart, GA
DESCRIPTION:We Want Everyone To Come Help Cycle World Honor And Show A
 ppreciation For Those That Have Served And Protected Our Local Communi
 ties And Our Great Nation.   Just a few of the planned activities inc
 lude:  Police Motorcycle Demonstration LifeSouth Blood Drive D.A.R.E. 
 Display LifeFlight Helicopter Fly-In Antique Fire Truck and Equipment 
 Police K9 Show Athens Tech EMS Display (Free BP Screen) Various Milita
 ry Displays\n\nFor more information visit https://www.southeastwheelse
 vents.com/events/public-safety-military-appreciation-day
DTSTART;TZID=Pacific/Midway:20130413T100000
DTEND;TZID=Pacific/Midway:20130413T160000
CATEGORIES:open, house
LOCATION:Cycle World of Athens
WEBSITE:http://www.cycleworldathens.com
URL:http://www.cycleworldathens.com
CONTACT:7065483300
ORGANIZER;CN="Cycle World of Athens":https://www.southeastwheelsevents
 .com/profile/MikeNewell
ATTACH;FMTTYPE="image/jpeg":http://storage.ning.com/topology/rest/1.0/
 file/get/2459731115?profile=original
ATTENDEE;ROLE=REQ-PARTICIPANT;PARTSTAT=ACCEPTED;RSVP=TRUE;CN="Cycle Wo
 rld of Athens":https://www.southeastwheelsevents.com/profile/MikeNewel
 l
END:VEVENT
END:VCALENDAR
