BEGIN:VCALENDAR
PRODID:NingEventWidget-v1
VERSION:2.0
METHOD:PUBLISH
BEGIN:VTIMEZONE
TZID:Pacific/Midway
X-LIC-LOCATION:Pacific/Midway
BEGIN:STANDARD
TZOFFSETFROM:-1100
TZOFFSETTO:-1100
TZNAME:SST
DTSTART:19700101T000000
END:STANDARD
END:VTIMEZONE
BEGIN:VEVENT
UID:5072275:Event:1245222
DTSTAMP:20260420T172418Z
SUMMARY:Public Service Car Show -Braswell, GA
DESCRIPTION:\r\nBraswell Volunteer Fire Department is hosting an excit
 ing car show offering fun and food for the entire family. Car show wit
 h trophies in multiple classes judged by true auto professionals. Trop
 hies for Chief’s Choice, Mayor’s Choice and best of show. Touch-a-
 truck with fire trucks, ambulances, police cars, and other vehicles. H
 alloween contest for kids, adults and show vehicles. Food trucks(s) Tr
 ick or Trunk for the kids Bouncy for the kids 50/50 tickets Door Prize
 s Music and Fun for the whole Family. Lmcintyre@braswellga.org for ven
 dor opportunities an additional information.\n\nFor more information v
 isit https://www.southeastwheelsevents.com/events/publiv-servcie-car-s
 how-braswell-ga
DTSTART;TZID=Pacific/Midway:20231014T100000
DTEND;TZID=Pacific/Midway:20231014T150000
CATEGORIES:car, ashow, festival, benefit, commendation
LOCATION:6997 Braswell Mountain Road
WEBSITE:
URL:
CONTACT:Lmcintyre@braswellga.org
ORGANIZER:Braswell Volunteer Fire Department
ATTACH;FMTTYPE="image/jpeg":https://storage.ning.com/topology/rest/1.0
 /file/get/10997495077?profile=original
ATTENDEE;ROLE=REQ-PARTICIPANT;PARTSTAT=ACCEPTED;RSVP=TRUE;CN="Chuck Aa
 ron":https://www.southeastwheelsevents.com/profile/ChuckAaron886
END:VEVENT
END:VCALENDAR
