BEGIN:VCALENDAR
PRODID:NingEventWidget-v1
VERSION:2.0
METHOD:PUBLISH
BEGIN:VTIMEZONE
TZID:Pacific/Midway
X-LIC-LOCATION:Pacific/Midway
BEGIN:STANDARD
TZOFFSETFROM:-1100
TZOFFSETTO:-1100
TZNAME:SST
DTSTART:19700101T000000
END:STANDARD
END:VTIMEZONE
BEGIN:VEVENT
UID:5072275:Event:1087118
DTSTAMP:20260424T065800Z
SUMMARY:Push Rods Car Club Cruise In - POWDER SPRINGS, GA
DESCRIPTION:Push Rods Car Club Cruise In\n\nFor more information 
 visit https://www.southeastwheelsevents.com/events/push-rods-car-club-
 cruise-in-powder-sprjngs-ga
DTSTART;TZID=Pacific/Midway:20180630T170000
DTEND;TZID=Pacific/Midway:20180630T210000
CATEGORIES:car, show
LOCATION:New Macland and Macdeonia Road
WEBSITE:https://www.google.com/maps/place/Macedonia+Rd+%26+New+MacLand
 +Rd,+Powder+Springs,+GA+30127,+USA/@33.8732167,-84.6783313,17z/data=!3
 m1!4b1!4m5!3m4!1s0x88f53cba5b78390d:0xa464d1199ad066d!8m2!3d33.8732167
 !4d-84.6761426
URL:https://www.google.com/maps/place/Macedonia+Rd+%26+New+MacLand+Rd,
 +Powder+Springs,+GA+30127,+USA/@33.8732167,-84.6783313,17z/data=!3m1!4
 b1!4m5!3m4!1s0x88f53cba5b78390d:0xa464d1199ad066d!8m2!3d33.8732167!4d-
 84.6761426
CONTACT:(770) 324-3759
ORGANIZER:
ATTACH;FMTTYPE="image/jpeg":http://storage.ning.com/topology/rest/1.0/
 file/get/967773821?profile=original
ATTENDEE;ROLE=REQ-PARTICIPANT;PARTSTAT=ACCEPTED;RSVP=TRUE;CN="Anthony 
 Hopkins":https://www.southeastwheelsevents.com/profile/AnthonyHopkins
END:VEVENT
END:VCALENDAR
