BEGIN:VCALENDAR
PRODID:NingEventWidget-v1
VERSION:2.0
METHOD:PUBLISH
BEGIN:VTIMEZONE
TZID:Pacific/Midway
X-LIC-LOCATION:Pacific/Midway
BEGIN:STANDARD
TZOFFSETFROM:-1100
TZOFFSETTO:-1100
TZNAME:SST
DTSTART:19700101T000000
END:STANDARD
END:VTIMEZONE
BEGIN:VEVENT
UID:5072275:Event:1042773
DTSTAMP:20260420T083915Z
SUMMARY:Racers Reunion Night - LMSC, MS, P4, M4, PS
DESCRIPTION:Adult admission – $10 | Children 12 and under – Free 
 Tier Parking (Turns 3 & 4) – $10.00 Per Vehicle Plus Admission (Ente
 r on B Side) Tier parking spots are available to reserve at $100. Vehi
 cle fees and admission still applies.\n\nFor more information visit ht
 tps://www.southeastwheelsevents.com/events/racers-reunion-night-lmsc-m
 s-p4-m4-ps
DTSTART;TZID=Pacific/Midway:20170616T000000
DTEND;TZID=Pacific/Midway:20170616T235900
CATEGORIES:race
LOCATION:Kingsport Speedway
WEBSITE:http://www.newkingsportspeedway.com/
URL:http://www.newkingsportspeedway.com/
CONTACT:(423) 288-5992
ORGANIZER:
ATTACH;FMTTYPE="image/jpeg":http://storage.ning.com/topology/rest/1.0/
 file/get/967743605?profile=original
ATTENDEE;ROLE=REQ-PARTICIPANT;PARTSTAT=ACCEPTED;RSVP=TRUE;CN="Christop
 her Gosney":https://www.southeastwheelsevents.com/profile/ChristopherG
 osney
END:VEVENT
END:VCALENDAR
