BEGIN:VCALENDAR
PRODID:NingEventWidget-v1
VERSION:2.0
METHOD:PUBLISH
BEGIN:VTIMEZONE
TZID:Pacific/Midway
X-LIC-LOCATION:Pacific/Midway
BEGIN:STANDARD
TZOFFSETFROM:-1100
TZOFFSETTO:-1100
TZNAME:SST
DTSTART:19700101T000000
END:STANDARD
END:VTIMEZONE
BEGIN:VEVENT
UID:5072275:Event:973163
DTSTAMP:20260419T041045Z
SUMMARY:Racers Reunion Radio
DESCRIPTION:Racers Reunion Radio, along with Patrick Reynolds and B
 ill Pratt will have shows that interest drag racing fans far and wide
  tonight. On with Patrick at 7 pm will be Shirley Muldowney, a racer w
 ho fought being a female in a male dominated sport. Then, coming on at
  8 pm on Racin' & Rockin' we will talk with IHRA Jr. Dragster Champion
 , Kassie Thomas.\nFirst up at 6 pm will be Jerry Smith on S.T.A.R.S.
  (Short Track Auto Racing Source). An evening packed with racing highl
 ights for any form of racing you follow. Not to leave Tuesday night ou
 t with Free Pennington at 6:30 pm on Making An Impact followed at 7 pm
  with Jeff Gilder and the gang on Racing Through History (better kno
 wn as Thee Goat Rodeo).\nYou can listen to any of the shows at: www.r
 acersreunionradio.com and clicking on the red and white box: \"CLICK 
 HERE .. LISTEN NOW\".\n\nFor more information visit https://www.southe
 astwheelsevents.com/events/racers-reunion-radio
DTSTART;TZID=Pacific/Midway:20160411T190000
DTEND;TZID=Pacific/Midway:20160411T210000
CATEGORIES:radio, interviews
LOCATION:www.drag.racersreunion.com
WEBSITE:
URL:
CONTACT:
ORGANIZER;CN="Barb Santucci":https://www.southeastwheelsevents.com/pro
 file/BarbSantucci
ATTACH;FMTTYPE="image/jpeg":
ATTENDEE;ROLE=REQ-PARTICIPANT;PARTSTAT=ACCEPTED;RSVP=TRUE;CN="Barb San
 tucci":https://www.southeastwheelsevents.com/profile/BarbSantucci
END:VEVENT
END:VCALENDAR
