BEGIN:VCALENDAR
PRODID:NingEventWidget-v1
VERSION:2.0
METHOD:PUBLISH
BEGIN:VTIMEZONE
TZID:Pacific/Midway
X-LIC-LOCATION:Pacific/Midway
BEGIN:STANDARD
TZOFFSETFROM:-1100
TZOFFSETTO:-1100
TZNAME:SST
DTSTART:19700101T000000
END:STANDARD
END:VTIMEZONE
BEGIN:VEVENT
UID:5072275:Event:530380
DTSTAMP:20260423T172102Z
SUMMARY:Rainsville Freedom Fest Car, Truck, and Motorcycle Show -Rains
 ville, AL
DESCRIPTION:Rainsville Freedom Fest Car, Truck, and Motorcycle Show.\r
 \nAt City Park\r\nRegistration 3:00-5:00\r\nAwards at 6:30\r\nRegistra
 tion:Donation of $20\r\nTop 25 Vehicles Award\r\nBest in Show Award\r\
 nPeople's Choice Award\r\nPastor's Choice Award\r\nBest Muscle Car Awa
 rd\r\nBest Motorcycle Award\r\nMayor's Choice Award\r\nBest Modern Mus
 cle Award\r\nBest Exotic Car Award\r\nBest Tuner Award\r\nDOOR PRIZES 
 TOO!!!!!\r\nWhile here, enjoy Freedom Fest entertainment which include
 s performances by Victoria Griffith, 33 Miles, Ginny Owens, and Guy Pe
 nrod!\r\nFireworks show will follow entertainment.\r\nContact Jonathan
  Harris at (256)717-9678 or Tyler Murdock at (256)605-5593 for info on
  car show.\r\n \n\nFor more information visit https://www.southeastwh
 eelsevents.com/events/rainsville-freedom-fest-car-truck-and-motorcycle
 -show
DTSTART;TZID=Pacific/Midway:20210626T150000
DTEND;TZID=Pacific/Midway:20210626T190000
CATEGORIES:car, show
LOCATION:Rainesville Sports Complex
WEBSITE:http://www.rainsvillealabama.com
URL:http://www.rainsvillealabama.com
CONTACT:Jonathan Harris (256) 657-4245 or 256-605-5593
ORGANIZER:Freedom Fest
ATTACH;FMTTYPE="image/jpeg":http://storage.ning.com/topology/rest/1.0/
 file/get/967619265?profile=original
ATTENDEE;ROLE=REQ-PARTICIPANT;PARTSTAT=ACCEPTED;RSVP=TRUE;CN="Jonathan
  Harris":https://www.southeastwheelsevents.com/profile/JonathanHarris
ATTENDEE;ROLE=REQ-PARTICIPANT;PARTSTAT=TENTATIVE;RSVP=TRUE;CN="Jack Th
 omas":https://www.southeastwheelsevents.com/profile/JackThomas
END:VEVENT
END:VCALENDAR
