BEGIN:VCALENDAR
PRODID:NingEventWidget-v1
VERSION:2.0
METHOD:PUBLISH
BEGIN:VTIMEZONE
TZID:Pacific/Midway
X-LIC-LOCATION:Pacific/Midway
BEGIN:STANDARD
TZOFFSETFROM:-1100
TZOFFSETTO:-1100
TZNAME:SST
DTSTART:19700101T000000
END:STANDARD
END:VTIMEZONE
BEGIN:VEVENT
UID:5072275:Event:1031015
DTSTAMP:20260422T072149Z
SUMMARY:Rare Air VW Show and Swap Meet -Pensacola
DESCRIPTION:\n\nFor more information visit https://www.southeastwheels
 events.com/events/rare-air-tech-session-at-pensacola
DTSTART;TZID=Pacific/Midway:20221015T080000
DTEND;TZID=Pacific/Midway:20221015T160000
CATEGORIES:car, show, swap, meet
LOCATION:Five Flags Speedwy
WEBSITE:
URL:
CONTACT:850-082-2455
ORGANIZER:Rare Air Emerald Coast VW Club
ATTACH;FMTTYPE="image/jpeg":https://storage.ning.com/topology/rest/1.0
 /file/get/10840360480?profile=original
ATTENDEE;ROLE=REQ-PARTICIPANT;PARTSTAT=ACCEPTED;RSVP=TRUE;CN="Christop
 her Gosney":https://www.southeastwheelsevents.com/profile/ChristopherG
 osney
END:VEVENT
END:VCALENDAR
