BEGIN:VCALENDAR
PRODID:NingEventWidget-v1
VERSION:2.0
METHOD:PUBLISH
BEGIN:VTIMEZONE
TZID:Pacific/Midway
X-LIC-LOCATION:Pacific/Midway
BEGIN:STANDARD
TZOFFSETFROM:-1100
TZOFFSETTO:-1100
TZNAME:SST
DTSTART:19700101T000000
END:STANDARD
END:VTIMEZONE
BEGIN:VEVENT
UID:5072275:Event:878488
DTSTAMP:20260420T234353Z
SUMMARY:Red Oak United Methodist Church Car Show -Covington, GA
DESCRIPTION:Registration 9AM - 1PM Show Time 10AM - 3PM  Trophies awar
 ded at 3PM\n\nFor more information visit https://www.southeastwheelsev
 ents.com/events/red-oak-united-methodist-church-car-show-covington-ga
DTSTART;TZID=Pacific/Midway:20170506T100000
DTEND;TZID=Pacific/Midway:20170506T150000
CATEGORIES:car, show
LOCATION:Red Oak United Methodist Church
WEBSITE:
URL:
CONTACT:George 704-400-1686
ORGANIZER:Red Oak United Methodist Church
ATTACH;FMTTYPE="image/jpeg":
ATTENDEE;ROLE=REQ-PARTICIPANT;PARTSTAT=ACCEPTED;RSVP=TRUE;CN="Bill Dav
 is":https://www.southeastwheelsevents.com/profile/BillDavis
ATTENDEE;ROLE=REQ-PARTICIPANT;PARTSTAT=ACCEPTED;RSVP=TRUE;CN="Chuck Aa
 ron":https://www.southeastwheelsevents.com/profile/ChuckAaron886
ATTENDEE;ROLE=REQ-PARTICIPANT;PARTSTAT=ACCEPTED;RSVP=TRUE;CN="Lee Holm
 an":https://www.southeastwheelsevents.com/profile/LeeHolman
ATTENDEE;ROLE=REQ-PARTICIPANT;PARTSTAT=ACCEPTED;RSVP=TRUE;CN="Al Gepha
 rt":https://www.southeastwheelsevents.com/profile/AlGephart
END:VEVENT
END:VCALENDAR
