BEGIN:VCALENDAR
PRODID:NingEventWidget-v1
VERSION:2.0
METHOD:PUBLISH
BEGIN:VTIMEZONE
TZID:Pacific/Midway
X-LIC-LOCATION:Pacific/Midway
BEGIN:STANDARD
TZOFFSETFROM:-1100
TZOFFSETTO:-1100
TZNAME:SST
DTSTART:19700101T000000
END:STANDARD
END:VTIMEZONE
BEGIN:VEVENT
UID:5072275:Event:1248904
DTSTAMP:20260421T102210Z
SUMMARY:Red, White and Blue-Haven Car Show
DESCRIPTION:All years, All Makes, All Models Welcome.\nSpectators Free
 -Family Friendly Event\nFood Trucks & Beverage Service\nMusic\nShow Ca
 r Entry Fee: $20 Donation\n\nFor more information visit https://www.so
 utheastwheelsevents.com/events/red-white-and-blue-haven-car-show
DTSTART;TZID=Pacific/Midway:20230701T093000
DTEND;TZID=Pacific/Midway:20230701T150000
CATEGORIES:car, show
LOCATION:Brookhaven Park
WEBSITE:https://brookhavencommerce.org/
URL:https://brookhavencommerce.org/
CONTACT:404-410-1300
ORGANIZER:Brookhaven Chamber, Explore Brookhaven, City of Brookhaven
ATTACH;FMTTYPE="image/jpeg":https://storage.ning.com/topology/rest/1.0
 /file/get/11281840485?profile=original
ATTENDEE;ROLE=REQ-PARTICIPANT;PARTSTAT=ACCEPTED;RSVP=TRUE;CN="Jerald S
 hindledecker":https://www.southeastwheelsevents.com/profile/JeraldShin
 dledecker
ATTENDEE;ROLE=REQ-PARTICIPANT;PARTSTAT=ACCEPTED;RSVP=TRUE;CN="Richard 
 Blount II":https://www.southeastwheelsevents.com/profile/RichardBlount
 II
ATTENDEE;ROLE=REQ-PARTICIPANT;PARTSTAT=TENTATIVE;RSVP=TRUE;CN="JP Brad
 y":https://www.southeastwheelsevents.com/profile/jpbrady
END:VEVENT
END:VCALENDAR
