BEGIN:VCALENDAR
PRODID:NingEventWidget-v1
VERSION:2.0
METHOD:PUBLISH
BEGIN:VTIMEZONE
TZID:Pacific/Midway
X-LIC-LOCATION:Pacific/Midway
BEGIN:STANDARD
TZOFFSETFROM:-1100
TZOFFSETTO:-1100
TZNAME:SST
DTSTART:19700101T000000
END:STANDARD
END:VTIMEZONE
BEGIN:VEVENT
UID:5072275:Event:1042426
DTSTAMP:20260423T231600Z
SUMMARY:Regular Show - First Points Race
DESCRIPTION:Tri-County Race Track Specs Length: 1/4-Mile Through Cente
 r Banking: Semi-Banked Surface: Clay\n\nFor more information visit htt
 ps://www.southeastwheelsevents.com/events/regular-show-first-points-ra
 ce
DTSTART;TZID=Pacific/Midway:20170414T000000
DTEND;TZID=Pacific/Midway:20170414T235900
CATEGORIES:race
LOCATION:Tri-County Race Track
WEBSITE:http://www.tricountyracetrack.com/index.html
URL:http://www.tricountyracetrack.com/index.html
CONTACT:828.837.3815
ORGANIZER:
ATTACH;FMTTYPE="image/jpeg":http://storage.ning.com/topology/rest/1.0/
 file/get/967743462?profile=original
ATTENDEE;ROLE=REQ-PARTICIPANT;PARTSTAT=ACCEPTED;RSVP=TRUE;CN="Christop
 her Gosney":https://www.southeastwheelsevents.com/profile/ChristopherG
 osney
END:VEVENT
END:VCALENDAR
