BEGIN:VCALENDAR
PRODID:NingEventWidget-v1
VERSION:2.0
METHOD:PUBLISH
BEGIN:VTIMEZONE
TZID:Pacific/Midway
X-LIC-LOCATION:Pacific/Midway
BEGIN:STANDARD
TZOFFSETFROM:-1100
TZOFFSETTO:-1100
TZNAME:SST
DTSTART:19700101T000000
END:STANDARD
END:VTIMEZONE
BEGIN:VEVENT
UID:5072275:Event:1076286
DTSTAMP:20260424T031124Z
SUMMARY:Relay for Life Car Show -Cumming, GA
DESCRIPTION:RELAY FOR LIFE CAR SHOW \r\n\r\nFORSYTH COUNTY BOARD OF E
 DUCATION                    1120 DAHLONEGA HWY (HIGHWAY 9)\r
 \nSATURDAY, MARCH 20 10am- 2pm\r\nREGISTRATION 10AM – 11AM\r\nENTRY/
 DONATION $20.00 per vehicle\r\n\r\n50/50 TICKETS\r\nFAMILY FUN & MUSIC
 \r\n\r\n          \r\n                   
                       PLAQUES GIVEN\r\n\r\n SUPE
 RINTENDENT CHOICE\r\n PEOPLES CHOICE “BEST OF SHOW”\r\nPEOPLES CH
 OICE “TOP 25“\r\n\r\n \r\n                          
                                              \n
 \nFor more information visit https://www.southeastwheelsevents.com/eve
 nts/relay-for-life-car-show-3
DTSTART;TZID=Pacific/Midway:20210320T100000
DTEND;TZID=Pacific/Midway:20210320T140000
CATEGORIES:car, show, cahrity, fundraiser
LOCATION:Forsyth Board of Education
WEBSITE:
URL:
CONTACT:470-349-0150
ORGANIZER:Lynn Gilder : Forsyth County School Food and Nutrition Servi
 ces
ATTACH;FMTTYPE="image/jpeg":http://storage.ning.com/topology/rest/1.0/
 file/get/967758231?profile=original
ATTENDEE;ROLE=REQ-PARTICIPANT;PARTSTAT=ACCEPTED;RSVP=TRUE;CN="Lynn Gil
 der":https://www.southeastwheelsevents.com/profile/LynnGilder240
END:VEVENT
END:VCALENDAR
