BEGIN:VCALENDAR
PRODID:NingEventWidget-v1
VERSION:2.0
METHOD:PUBLISH
BEGIN:VTIMEZONE
TZID:Pacific/Midway
X-LIC-LOCATION:Pacific/Midway
BEGIN:STANDARD
TZOFFSETFROM:-1100
TZOFFSETTO:-1100
TZNAME:SST
DTSTART:19700101T000000
END:STANDARD
END:VTIMEZONE
BEGIN:VEVENT
UID:5072275:Event:1041131
DTSTAMP:20260420T053713Z
SUMMARY:REN,FWD,S4,PS4,Bomb,602 ONLY DOUBLE POINTS,S4 CLASSIC
DESCRIPTION:\n\nEast Lincoln Speedway will change to 6:30 PM from 7 PM
  as the official starting time for Saturday evening racing. Gates will
  still open at 4:30 PM each Saturday. We are doing this to allow for a
  fuller racing evening and still finish by 11 PM.\n\n\nFor more inform
 ation visit https://www.southeastwheelsevents.com/events/ren-fwd-s4-ps
 4-bomb-602-only-double-points-s4-classic
DTSTART;TZID=Pacific/Midway:20170513T000000
DTEND;TZID=Pacific/Midway:20170513T235900
CATEGORIES:race
LOCATION:East Lincoln Speedway
WEBSITE:http://www.elspeedway.com/
URL:http://www.elspeedway.com/
CONTACT:(704) 263 5347
ORGANIZER:
ATTACH;FMTTYPE="image/jpeg":http://storage.ning.com/topology/rest/1.0/
 file/get/967739673?profile=original
ATTENDEE;ROLE=REQ-PARTICIPANT;PARTSTAT=ACCEPTED;RSVP=TRUE;CN="Christop
 her Gosney":https://www.southeastwheelsevents.com/profile/ChristopherG
 osney
END:VEVENT
END:VCALENDAR
