BEGIN:VCALENDAR
PRODID:NingEventWidget-v1
VERSION:2.0
METHOD:PUBLISH
BEGIN:VTIMEZONE
TZID:Pacific/Midway
X-LIC-LOCATION:Pacific/Midway
BEGIN:STANDARD
TZOFFSETFROM:-1100
TZOFFSETTO:-1100
TZNAME:SST
DTSTART:19700101T000000
END:STANDARD
END:VTIMEZONE
BEGIN:VEVENT
UID:5072275:Event:416401
DTSTAMP:20260420T122740Z
SUMMARY:Return to the Beach -Myrtle Beach, SC
DESCRIPTION:PT Cruiser Show at Broadway at the Beach.  Benefits The A
 merican Cancer Society. \r\n \r\nLongest Running PT Cruiser Only sho
 w on the East Coast.\n\nFor more information visit https://www.southea
 stwheelsevents.com/events/return-to-the-beach-12
DTSTART;TZID=Pacific/Midway:20171005T000000
DTEND;TZID=Pacific/Midway:20171008T235900
CATEGORIES:fundraiser, car-show
LOCATION:Broadway at the Beach
WEBSITE:http://www.returnttothebeach.com
URL:http://www.returnttothebeach.com
CONTACT:Anne Willis 704-609-9953, Scooter 843-903-6839
ORGANIZER:Return to the Beach
ATTACH;FMTTYPE="image/jpeg":http://storage.ning.com/topology/rest/1.0/
 file/get/967602234?profile=original
ATTENDEE;ROLE=REQ-PARTICIPANT;PARTSTAT=ACCEPTED;RSVP=TRUE;CN="Anne Wil
 lis":https://www.southeastwheelsevents.com/profile/AnneWillis
ATTENDEE;ROLE=REQ-PARTICIPANT;PARTSTAT=ACCEPTED;RSVP=TRUE;CN="Chuck Aa
 ron":https://www.southeastwheelsevents.com/profile/ChuckAaron886
END:VEVENT
END:VCALENDAR
