BEGIN:VCALENDAR
PRODID:NingEventWidget-v1
VERSION:2.0
METHOD:PUBLISH
BEGIN:VTIMEZONE
TZID:Pacific/Midway
X-LIC-LOCATION:Pacific/Midway
BEGIN:STANDARD
TZOFFSETFROM:-1100
TZOFFSETTO:-1100
TZNAME:SST
DTSTART:19700101T000000
END:STANDARD
END:VTIMEZONE
BEGIN:VEVENT
UID:5072275:Event:136640
DTSTAMP:20260424T084151Z
SUMMARY:Revival Of The Classics, Cumming, Ga.
DESCRIPTION:Corinth Baptist Church annual car and cycle show. This eve
 nt is a fundraiser for our Church Camp. Numerous awards to be given aw
 ay to winners in different classes. Door prizes to be given away to en
 tries. Food will be available for purchase. Come and join us for a day
  of fun and fellowship.\n\nFor more information visit https://www.sout
 heastwheelsevents.com/events/revival-of-the-classics
DTSTART;TZID=Pacific/Midway:20110430T100000
DTEND;TZID=Pacific/Midway:20110430T150000
CATEGORIES:fundraiser
LOCATION:City parking lot across from Hardees
WEBSITE:
URL:
CONTACT:(770)843-2485
ORGANIZER;CN="Randy Gazaway":https://www.southeastwheelsevents.com/pro
 file/RandyGazaway
ATTACH;FMTTYPE="image/jpeg":
ATTENDEE;ROLE=REQ-PARTICIPANT;PARTSTAT=ACCEPTED;RSVP=TRUE;CN="scott mc
 clain":https://www.southeastwheelsevents.com/profile/brianscottmcclain
ATTENDEE;ROLE=REQ-PARTICIPANT;PARTSTAT=ACCEPTED;RSVP=TRUE;CN="joe good
 mon":https://www.southeastwheelsevents.com/profile/joegoodmon
ATTENDEE;ROLE=REQ-PARTICIPANT;PARTSTAT=ACCEPTED;RSVP=TRUE;CN="Randy Ga
 zaway":https://www.southeastwheelsevents.com/profile/RandyGazaway
END:VEVENT
END:VCALENDAR
