BEGIN:VCALENDAR
PRODID:NingEventWidget-v1
VERSION:2.0
METHOD:PUBLISH
BEGIN:VTIMEZONE
TZID:Pacific/Midway
X-LIC-LOCATION:Pacific/Midway
BEGIN:STANDARD
TZOFFSETFROM:-1100
TZOFFSETTO:-1100
TZNAME:SST
DTSTART:19700101T000000
END:STANDARD
END:VTIMEZONE
BEGIN:VEVENT
UID:5072275:Event:702889
DTSTAMP:20260424T162938Z
SUMMARY:Rich Mountain Wilderness Charity Motorcycle Ride, October 26th
  , Ellijay, Ga.
DESCRIPTION:This is a 72 miles Charity fund raiser ride which will cir
 cumnavigate the \"Rich Mountain Wilderness Area\" in Gilmer (Ellijay)
  and Fannin (Blue Ridge) Co.  This ride will expose the riders to som
 e of the scenic colorful back roads off of the usual ride routes. We w
 ill also provide lunch and a T-shirt to document the event to the regi
 stered riders. ($20)\nHosted by HOTRODS N HARLEY  Registration is fro
 m 9:00AM to 10:00AM , Ride starts at 10:00 AM ends around 12:30 PM wit
 h lunch and a $100 award for the winning poker hand.\nFunds raised ben
 efit the Gilmer Co. Community Food Pantry and the Gilmer Co. Museum.\
 n\nFor more information visit https://www.southeastwheelsevents.com/ev
 ents/rich-mountain-wilderness-charity-motorcycle-ride-october-26th
DTSTART;TZID=Pacific/Midway:20131026T090000
DTEND;TZID=Pacific/Midway:20131026T130000
CATEGORIES:charity, poker, ride
LOCATION:HOTRODS N HARLEYS
WEBSITE:https://gilmerhistory.eventbrite.com
URL:https://gilmerhistory.eventbrite.com
CONTACT:706-515-8896
ORGANIZER;CN="Wayne Hooper":https://www.southeastwheelsevents.com/prof
 ile/WayneHooper
ATTACH;FMTTYPE="image/jpeg":
ATTENDEE;ROLE=REQ-PARTICIPANT;PARTSTAT=ACCEPTED;RSVP=TRUE;CN="Wayne Ho
 oper":https://www.southeastwheelsevents.com/profile/WayneHooper
END:VEVENT
END:VCALENDAR
