BEGIN:VCALENDAR
PRODID:NingEventWidget-v1
VERSION:2.0
METHOD:PUBLISH
BEGIN:VTIMEZONE
TZID:Pacific/Midway
X-LIC-LOCATION:Pacific/Midway
BEGIN:STANDARD
TZOFFSETFROM:-1100
TZOFFSETTO:-1100
TZNAME:SST
DTSTART:19700101T000000
END:STANDARD
END:VTIMEZONE
BEGIN:VEVENT
UID:5072275:Event:1025361
DTSTAMP:20260423T144020Z
SUMMARY:Richmond BMW Riders Club Meeting
DESCRIPTION:Richmond BMW Riders Club Meeting will happen at Richmond B
 MW Riders Club, 3166 W Cary St, Richmond, VA. Meeting and end time may
  change.\n\nFor more information visit https://www.southeastwheelseven
 ts.com/events/richmond-bmw-riders-club-meeting
DTSTART;TZID=Pacific/Midway:20161218T170000
DTEND;TZID=Pacific/Midway:20161218T210000
CATEGORIES:motorcycles, "clubs/shows/cruises"
LOCATION:Babe's of Carytown
WEBSITE:http://www-rbmwr-com.rmctools.com/
URL:http://www-rbmwr-com.rmctools.com/
CONTACT:
ORGANIZER:Richmond Area BMW Riders
ATTACH;FMTTYPE="image/jpeg":http://storage.ning.com/topology/rest/1.0/
 file/get/967716120?profile=original
ATTENDEE;ROLE=REQ-PARTICIPANT;PARTSTAT=ACCEPTED;RSVP=TRUE;CN="Chris go
 sney":https://www.southeastwheelsevents.com/profile/Chrisgosney
END:VEVENT
END:VCALENDAR
