BEGIN:VCALENDAR
PRODID:NingEventWidget-v1
VERSION:2.0
METHOD:PUBLISH
BEGIN:VTIMEZONE
TZID:Pacific/Midway
X-LIC-LOCATION:Pacific/Midway
BEGIN:STANDARD
TZOFFSETFROM:-1100
TZOFFSETTO:-1100
TZNAME:SST
DTSTART:19700101T000000
END:STANDARD
END:VTIMEZONE
BEGIN:VEVENT
UID:5072275:Event:1106377
DTSTAMP:20260421T034652Z
SUMMARY:Ride Against Domestic Violence - Athens, Ga
DESCRIPTION:Pre-registration through 10/22 is $30 per vehicle and INCL
 UDES and PPI RADV t-shirt.   Registration after 10/22 is $35 per vehic
 le and t-shirts are first come first served / $15 each or 2 for $25.  
 Mail payments to P.O. Box 948, Winder, GA 30680.\n\nFor more informati
 on visit https://www.southeastwheelsevents.com/events/ride-against-dom
 estic-violence-athens-ga
DTSTART;TZID=Pacific/Midway:20181027T090000
DTEND;TZID=Pacific/Midway:20181027T120000
CATEGORIES:car, show, cruise, in, motorcycle
LOCATION:Cycle World of Athens,
WEBSITE:https://www.facebook.com/events/761049060908358/
URL:https://www.facebook.com/events/761049060908358/
CONTACT:706-548-3300
ORGANIZER:Cycle World of Athens
ATTACH;FMTTYPE="image/jpeg":http://storage.ning.com/topology/rest/1.0/
 file/get/967802619?profile=original
ATTENDEE;ROLE=REQ-PARTICIPANT;PARTSTAT=ACCEPTED;RSVP=TRUE;CN="Anthony 
 Hopkins":https://www.southeastwheelsevents.com/profile/AnthonyHopkins
END:VEVENT
END:VCALENDAR
