BEGIN:VCALENDAR
PRODID:NingEventWidget-v1
VERSION:2.0
METHOD:PUBLISH
BEGIN:VTIMEZONE
TZID:Pacific/Midway
X-LIC-LOCATION:Pacific/Midway
BEGIN:STANDARD
TZOFFSETFROM:-1100
TZOFFSETTO:-1100
TZNAME:SST
DTSTART:19700101T000000
END:STANDARD
END:VTIMEZONE
BEGIN:VEVENT
UID:5072275:Event:933896
DTSTAMP:20260419T140335Z
SUMMARY:Get out and Ride! -Alpharetta, GA
DESCRIPTION:Alpharetta Motorcycle Road Runners\n\n\nSaturday, April 2,
  2016\n9:30 AM\n\n\n\n\nStarbucks\n2955 Bethany Bend, Alpharetta, GA
  (map)\n\n\n\n\n\n\n\n\nMeet at Starbucks to LEAVE at 9:30 am.\nCome 
 early for coffee!\nHome by 6pm. \nAm told that a good place to eat is
   Ishys Grill in Clayton.\nFun ride out, more direct route home.\nTC
 LOCS those bikes.\nStephanie Brewer:  http://www.meetup.com/alpharett
 amotorcycleroadrunners/members/44845112/\n\nFor more information visit
  https://www.southeastwheelsevents.com/events/ride-backroads-to-from-c
 layton-alpharetta-ga
DTSTART;TZID=Pacific/Midway:20160402T090000
DTEND;TZID=Pacific/Midway:20160402T180000
CATEGORIES:motorcycle-ride
LOCATION:Quick Trip
WEBSITE:http://www.meetup.com/alpharettamotorcycleroadrunners/
URL:http://www.meetup.com/alpharettamotorcycleroadrunners/
CONTACT:Stephanie Brewer
ORGANIZER:Alpharetta Motorcycle Road Runners
ATTACH;FMTTYPE="image/jpeg":http://storage.ning.com/topology/rest/1.0/
 file/get/967567848?profile=original
ATTENDEE;ROLE=REQ-PARTICIPANT;PARTSTAT=ACCEPTED;RSVP=TRUE;CN="Michael 
 Thies":https://www.southeastwheelsevents.com/profile/MichaelThies
END:VEVENT
END:VCALENDAR
