BEGIN:VCALENDAR
PRODID:NingEventWidget-v1
VERSION:2.0
METHOD:PUBLISH
BEGIN:VTIMEZONE
TZID:Pacific/Midway
X-LIC-LOCATION:Pacific/Midway
BEGIN:STANDARD
TZOFFSETFROM:-1100
TZOFFSETTO:-1100
TZNAME:SST
DTSTART:19700101T000000
END:STANDARD
END:VTIMEZONE
BEGIN:VEVENT
UID:5072275:Event:1031185
DTSTAMP:20260420T082920Z
SUMMARY:Ride Event at Crystal Harley Davidson
DESCRIPTION:Ride Event at Crystal Harley Davidson. Ride starts at Crys
 tal Harley Davidson located at 1785 S Suncoast Blvd, Homosassa, FL. Ri
 de end time may change.\n\nFor more information visit https://www.sout
 heastwheelsevents.com/events/ride-event-at-crystal-harley-davidson-3
DTSTART;TZID=Pacific/Midway:20170201T180000
DTEND;TZID=Pacific/Midway:20170201T220000
CATEGORIES:motorcycles, "clubs/shows/cruises"
LOCATION:CRYSTAL HARLEY-DAVIDSON
WEBSITE:http://crystalriverhog.com/id3.html
URL:http://crystalriverhog.com/id3.html
CONTACT:
ORGANIZER:Crystal River HOG
ATTACH;FMTTYPE="image/jpeg":
ATTENDEE;ROLE=REQ-PARTICIPANT;PARTSTAT=ACCEPTED;RSVP=TRUE;CN="Christop
 her Gosney":https://www.southeastwheelsevents.com/profile/ChristopherG
 osney
END:VEVENT
END:VCALENDAR
