BEGIN:VCALENDAR
PRODID:NingEventWidget-v1
VERSION:2.0
METHOD:PUBLISH
BEGIN:VTIMEZONE
TZID:Pacific/Midway
X-LIC-LOCATION:Pacific/Midway
BEGIN:STANDARD
TZOFFSETFROM:-1100
TZOFFSETTO:-1100
TZNAME:SST
DTSTART:19700101T000000
END:STANDARD
END:VTIMEZONE
BEGIN:VEVENT
UID:5072275:Event:636462
DTSTAMP:20260425T011236Z
SUMMARY:Ride For A Little Cancer Warrior -Cartersville, GA
DESCRIPTION:\" Never Forgotten \"~~ Remembering those who earned thier
  Wings ~~R.I.P. Angel Warrior'sCome be part of the team and help suppo
 rt Alyssa in her fight against childhood cancer and help raise Awarene
 ss against childhood cancer.\n\nFor more information visit https://www
 .southeastwheelsevents.com/events/ride-for-a-little-cancer-warrior-car
 tersville-ga
DTSTART;TZID=Pacific/Midway:20130511T090000
DTEND;TZID=Pacific/Midway:20130511T190000
CATEGORIES:cancer, ride
LOCATION:Starting @ Harley Davidson of Catersville, Ga.
WEBSITE:http://www.alyssasride.com/
URL:http://www.alyssasride.com/
CONTACT:Kazzi Lemon PH: 678-372-7997  email: (nmcinc.kazzilemon@yahoo.
 com)
ORGANIZER:Harley Davidson of Catersville, Ga
ATTACH;FMTTYPE="image/jpeg":
ATTENDEE;ROLE=REQ-PARTICIPANT;PARTSTAT=ACCEPTED;RSVP=TRUE;CN="Jack Tho
 mas":https://www.southeastwheelsevents.com/profile/JackThomas
END:VEVENT
END:VCALENDAR
