BEGIN:VCALENDAR
PRODID:NingEventWidget-v1
VERSION:2.0
METHOD:PUBLISH
BEGIN:VTIMEZONE
TZID:Pacific/Midway
X-LIC-LOCATION:Pacific/Midway
BEGIN:STANDARD
TZOFFSETFROM:-1100
TZOFFSETTO:-1100
TZNAME:SST
DTSTART:19700101T000000
END:STANDARD
END:VTIMEZONE
BEGIN:VEVENT
UID:5072275:Event:645436
DTSTAMP:20260420T050714Z
SUMMARY:Ride For Kids for Pediatric Brain Tumor Foundation -Alpharetta
 , GA
DESCRIPTION:Ride For Kids for Pediatric Brain Tumor FoundationSponsore
 d by WSB TV, News Talk WSB Radio, The Providence Group , North Georgia
  Retaining Walls & Concrete , Troutman Sanders LLP , and Paradise Arab
 ians LTD The ride begins at the North Point Mall, 1000 North Point Ci
 rcle in Alpharetta. Registration is from 7:00 am to  9:15 am and the 
 motorcycles leave at 9:30 am. The fee is a donation of $40.00 for each
  motorcycle. This is a scenic ride through the Georgia countryside. Th
 e ride raises funds for the PBTF's medical research and family support
  programs. Riders on all makes and models are welcome. The ride will e
 nd in Dahlonega with a light lunch, a Celebration of Life program and 
 awards. This is a rain or shine event. For more information call (800)
  253-6530, click here to send e-mail, or go tohttp://www.pbtfus.org/r
 ideforkids/events/2013/atlanta.html.\n\nFor more information visit htt
 ps://www.southeastwheelsevents.com/events/ride-for-kids-for-pediatric-
 brain-tumor-foundation-alpharetta-ga
DTSTART;TZID=Pacific/Midway:20130602T190000
DTEND;TZID=Pacific/Midway:20130602T200000
CATEGORIES:bike, ride
LOCATION:North Point Mall
WEBSITE:http://www.pbtfus.org/rideforkids/events/2013/atlanta.html
URL:http://www.pbtfus.org/rideforkids/events/2013/atlanta.html
CONTACT:(800) 253-6530
ORGANIZER:Pediatric Brain Tumor Foundation
ATTACH;FMTTYPE="image/jpeg":http://storage.ning.com/topology/rest/1.0/
 file/get/967637798?profile=original
ATTENDEE;ROLE=REQ-PARTICIPANT;PARTSTAT=ACCEPTED;RSVP=TRUE;CN="Jack Tho
 mas":https://www.southeastwheelsevents.com/profile/JackThomas
END:VEVENT
END:VCALENDAR
