BEGIN:VCALENDAR
PRODID:NingEventWidget-v1
VERSION:2.0
METHOD:PUBLISH
BEGIN:VTIMEZONE
TZID:Pacific/Midway
X-LIC-LOCATION:Pacific/Midway
BEGIN:STANDARD
TZOFFSETFROM:-1100
TZOFFSETTO:-1100
TZNAME:SST
DTSTART:19700101T000000
END:STANDARD
END:VTIMEZONE
BEGIN:VEVENT
UID:5072275:Event:806782
DTSTAMP:20260421T071909Z
SUMMARY:Ride for Life -Columbus, GA
DESCRIPTION:\n\n\n\nThe Ride for Life will be held at Chatthoochee Ha
 rley Davidson in Columbus, Georgia on August 16th, 2014.Registration:-
 $20 per rider-$10 per passenger-$7 BBQ Plate-Pre-register at Chattahoo
 chee H-D by August 11th and save $5 off registrationThe Red Knights Mo
 torcycle Clubs invites you to attend Ride for Life. Dice Run! Event H
 ours:-Kickstands up at 10:30am  Please Contact For More Information: -
 (706) 324-4294\n\n\nWEBSITE\nhttp://www.chattahoocheehd.com\n\n \n\n\
 n\n\n\nFor more information visit https://www.southeastwheelsevents.co
 m/events/ride-for-life-columbus-ga
DTSTART;TZID=Pacific/Midway:20140816T093000
DTEND;TZID=Pacific/Midway:20140816T160000
CATEGORIES:motorcycle, swap, meet
LOCATION:Chattahoochee Harley Davidson
WEBSITE:http://www.chattahoocheehd.com
URL:http://www.chattahoocheehd.com
CONTACT:706-324-4294
ORGANIZER:Chattahoochee Harley Davidson
ATTACH;FMTTYPE="image/jpeg":http://storage.ning.com/topology/rest/1.0/
 file/get/967655886?profile=original
ATTENDEE;ROLE=REQ-PARTICIPANT;PARTSTAT=ACCEPTED;RSVP=TRUE;CN="Chuck Aa
 ron":https://www.southeastwheelsevents.com/profile/ChuckAaron
END:VEVENT
END:VCALENDAR
