BEGIN:VCALENDAR
PRODID:NingEventWidget-v1
VERSION:2.0
METHOD:PUBLISH
BEGIN:VTIMEZONE
TZID:Pacific/Midway
X-LIC-LOCATION:Pacific/Midway
BEGIN:STANDARD
TZOFFSETFROM:-1100
TZOFFSETTO:-1100
TZNAME:SST
DTSTART:19700101T000000
END:STANDARD
END:VTIMEZONE
BEGIN:VEVENT
UID:5072275:Event:546443
DTSTAMP:20260423T142045Z
SUMMARY:Ride Like The Animals -Jefferson, GA
DESCRIPTION:\nRide to benefit the Humane Society of Jackson County's R
 aise the Woof Campaign to build Jackson County's first animal shelter.
 Driver $25/Passenger $15 - Includes: Koozie, Ride, Raffle and Concert 
 TicketsConcert following featuring The Ken Rhyne Band and Dustin Wilke
 s. Concert venue will include a Beer Garden.\nraisethewoof.weebly.com\
 nClaibourne Jordan 706-424-4607\n\nFor more information visit https://
 www.southeastwheelsevents.com/events/ride-like-the-animals-jefferson-g
 a
DTSTART;TZID=Pacific/Midway:20120908T130000
DTEND;TZID=Pacific/Midway:20120908T180000
CATEGORIES:motorcycle-ride
LOCATION:1420 Winder Hwy
WEBSITE:http://www.raisethewoof.weebly.com
URL:http://www.raisethewoof.weebly.com
CONTACT:706-424-4607
ORGANIZER:Claibourne Jordan
ATTACH;FMTTYPE="image/jpeg":http://storage.ning.com/topology/rest/1.0/
 file/get/967621962?profile=original
ATTENDEE;ROLE=REQ-PARTICIPANT;PARTSTAT=ACCEPTED;RSVP=TRUE;CN="Jack Tho
 mas":https://www.southeastwheelsevents.com/profile/JackThomas
END:VEVENT
END:VCALENDAR
