BEGIN:VCALENDAR
PRODID:NingEventWidget-v1
VERSION:2.0
METHOD:PUBLISH
BEGIN:VTIMEZONE
TZID:Pacific/Midway
X-LIC-LOCATION:Pacific/Midway
BEGIN:STANDARD
TZOFFSETFROM:-1100
TZOFFSETTO:-1100
TZNAME:SST
DTSTART:19700101T000000
END:STANDARD
END:VTIMEZONE
BEGIN:VEVENT
UID:5072275:Event:1269173
DTSTAMP:20260423T083659Z
SUMMARY:RIDE LOUNGE Car Meet
DESCRIPTION:\n\nFor more information visit https://www.southeastwheels
 events.com/events/ride-lounge-car-meet-1
DTSTART;TZID=Pacific/Midway:20250719T090000
DTEND;TZID=Pacific/Midway:20250719T120000
CATEGORIES:ride, lounge, ultimate, auto, experience, car, meet
LOCATION:Ride Lounge
WEBSITE:http://www.ride-lounge.com
URL:http://www.ride-lounge.com
CONTACT:770-545-5227
ORGANIZER;CN="Ride Lounge":https://www.southeastwheelsevents.com/profi
 le/DaphneMyers
ATTACH;FMTTYPE="image/jpeg":https://storage.ning.com/topology/rest/1.0
 /file/get/13650411656?profile=original
ATTENDEE;ROLE=REQ-PARTICIPANT;PARTSTAT=ACCEPTED;RSVP=TRUE;CN="Chuck Aa
 ron":https://www.southeastwheelsevents.com/profile/ChuckAaron886
ATTENDEE;ROLE=REQ-PARTICIPANT;PARTSTAT=ACCEPTED;RSVP=TRUE;CN="Ride Lou
 nge":https://www.southeastwheelsevents.com/profile/DaphneMyers
END:VEVENT
END:VCALENDAR
