BEGIN:VCALENDAR
PRODID:NingEventWidget-v1
VERSION:2.0
METHOD:PUBLISH
BEGIN:VTIMEZONE
TZID:Pacific/Midway
X-LIC-LOCATION:Pacific/Midway
BEGIN:STANDARD
TZOFFSETFROM:-1100
TZOFFSETTO:-1100
TZNAME:SST
DTSTART:19700101T000000
END:STANDARD
END:VTIMEZONE
BEGIN:VEVENT
UID:5072275:Event:683008
DTSTAMP:20260421T075139Z
SUMMARY:Ride To Benefit Crohns Disease -Statesboro, GA
DESCRIPTION:Ride To Benefit Crohns Disease\n\n \n\nDATE\nSeptember 21
 , 2013\n\nDIRECTIONS\n434 South Main Street, Statesboro, Georgia.\n\nC
 ITY / STATE\nStatesboro, Georgia (GA)\n\nDESCRIPTION\nThe Ride to Bene
 fit Crohn's Disease will starts at RJ's Steakhouse in Statesboro, Geor
 gia and will end at Gata's Restaurant in Statesboro, Georgia on Septem
 ber 6th, 2013. Location: -Starts at RJ's Steakhouse in Statesboro, Geo
 rgia (434 South Main Street, Statesboro, Georgia) -Ends at Gata's Rest
 aurant in Statesboro, Georgia (120 Lanier Drive, Statesboro, Georgia) 
 Registration: -$20 per bike Breakfast available for purchase at RJs. F
 ood and drinks available for purchase at Gata’s. Raffles/door prizes
  drawings at Gata’s. Money collected will be donated to Crohn's & Co
 litis Foundation of America.\nEvent Hours: -Bike line up begins at 10:
 00am -Ride begins at 11:00am -Ride finishes at approximately 2:00pm Pl
 ease Contact For More Information: -(706) 871-0891 We hope to see you 
 there!\nFor more information about this event, Please see below.\n\n\n
 EMAIL\ndvilsdom@yahoo.com\n\nCONTACT\nJoey Sparks\n\nPHONE\n706-871-08
 91 begin_of_the_skype_highlighting \n\n\n\n\nFor more information vis
 it https://www.southeastwheelsevents.com/events/ride-to-benefit-crohns
 -disease-statesboro-ga
DTSTART;TZID=Pacific/Midway:20130921T100000
DTEND;TZID=Pacific/Midway:20130921T150000
CATEGORIES:motorcycle-ride, rally
LOCATION:RJ's Steakhouse
WEBSITE:
URL:
CONTACT:dvilsdom@yahoo.com 706-871-0891
ORGANIZER:Joey Sparks
ATTACH;FMTTYPE="image/jpeg":http://storage.ning.com/topology/rest/1.0/
 file/get/967643016?profile=original
ATTENDEE;ROLE=REQ-PARTICIPANT;PARTSTAT=ACCEPTED;RSVP=TRUE;CN="Jack Tho
 mas":https://www.southeastwheelsevents.com/profile/JackThomas
END:VEVENT
END:VCALENDAR
