BEGIN:VCALENDAR
PRODID:NingEventWidget-v1
VERSION:2.0
METHOD:PUBLISH
BEGIN:VTIMEZONE
TZID:Pacific/Midway
X-LIC-LOCATION:Pacific/Midway
BEGIN:STANDARD
TZOFFSETFROM:-1100
TZOFFSETTO:-1100
TZNAME:SST
DTSTART:19700101T000000
END:STANDARD
END:VTIMEZONE
BEGIN:VEVENT
UID:5072275:Event:616177
DTSTAMP:20260420T080642Z
SUMMARY:Riding Clean South Georgia Car Show -Macon, GA
DESCRIPTION:This is a Car, Truck, & Bike Show, so bring your best. Ent
 ry Fee is $20 for Best In Class and $20 for Bass Competition. And we w
 ill Raffle Gift Cards throughout the event. Raffle tickets will be $2.
 00 Trophies Awarded for winners. Club Trophies awards for Participatio
 n. Food and Drinks will be served, so bring the family and enjoy yours
 elves. Vendors needed.  ****For more info, contact Santo @ (404) 482
 -4942.\n\nFor more information visit https://www.southeastwheelsevents
 .com/events/riding-clean-south-georgia-car-show
DTSTART;TZID=Pacific/Midway:20130316T120000
DTEND;TZID=Pacific/Midway:20130316T173000
CATEGORIES:best, of, show, car, and, sound, competition
LOCATION:Wings Cafe
WEBSITE:https://maps.google.com/maps?channel=linkdoctor&q=2822+bloomfi
 eld+dr+macon+georgia+31206&ie=UTF-8&hq=&hnear=0x88f3fbc1f88e1b51:0xb76
 5c388873cb1d0,2822+Bloomfield+Dr,+Macon,+GA+31206&gl=us&ei=GPsLUcS1CMq
 d2QXaxoG4AQ&ved=0CDMQ8gEwAA
URL:https://maps.google.com/maps?channel=linkdoctor&q=2822+bloomfield+
 dr+macon+georgia+31206&ie=UTF-8&hq=&hnear=0x88f3fbc1f88e1b51:0xb765c38
 8873cb1d0,2822+Bloomfield+Dr,+Macon,+GA+31206&gl=us&ei=GPsLUcS1CMqd2QX
 axoG4AQ&ved=0CDMQ8gEwAA
CONTACT:(404) 482-4942
ORGANIZER;CN="Fernado S Morgan":https://www.southeastwheelsevents.com/
 profile/rcccsouth
ATTACH;FMTTYPE="image/jpeg":http://storage.ning.com/topology/rest/1.0/
 file/get/967632170?profile=original
ATTENDEE;ROLE=REQ-PARTICIPANT;PARTSTAT=ACCEPTED;RSVP=TRUE;CN="Fernado 
 S Morgan":https://www.southeastwheelsevents.com/profile/rcccsouth
END:VEVENT
END:VCALENDAR
