BEGIN:VCALENDAR
PRODID:NingEventWidget-v1
VERSION:2.0
METHOD:PUBLISH
BEGIN:VTIMEZONE
TZID:Pacific/Midway
X-LIC-LOCATION:Pacific/Midway
BEGIN:STANDARD
TZOFFSETFROM:-1100
TZOFFSETTO:-1100
TZNAME:SST
DTSTART:19700101T000000
END:STANDARD
END:VTIMEZONE
BEGIN:VEVENT
UID:5072275:Event:1169635
DTSTAMP:20260420T025419Z
SUMMARY:Rims and Roasters! (Euro Meet)
DESCRIPTION:Join Atlanta Euros for an all-new monthly event called  â€
 śRims & Roastersâ€ť!  Saturday, June 29th at 9 AM!   -We are introduci
 ng a NEW Venue as we partner up with Alma Coffee located in Holly Spri
 ngs, GA!   -We are dedicated to keeping our event totally FREE for all
  attendees thanks to Alma Coffee Roastery & Cafe supporting us with th
 e awesome new location! Just make sure to grab some coffee to take hom
 e with you! :)  -All European Vehicles and Enthusiasts are Welcomed!  
 -Bring your Daily or Weekend Toy!  -Stop by and make friends apart of 
 the local community!  -Bring the whole family to see Unique Air-cooled
 /Water-cooled European cars and to drink wonderful coffee!  -This is (
 Family Friendly Event) so please letâ€™s keep it that way.  Absolutely
  NO Burnouts or Obnoxious Revving or you will be asked to leave.  -No 
 Vendors are allowed at this event.  -Please do not leave any trash any
 where. It is a privilege that we are graciously allowed to use this lo
 cation. So please pick up after yourself.  *We do not have reserved pa
 rking spots for individuals, so each parking spot is based on a â€śFir
 st Come First Served basisâ€ť.  Also, please fill up the very back par
 king spots FIRST when arriving so we can make space for everyone atten
 ding the event!  Address: 3448 Holly Springs Pkwy, Canton, GA 30115  M
 ost importantly letâ€™s all have a Wonderful Time!\n\nFacebook Event l
 ink:Â \nhttps://www.facebook.com/events/2412011129022671/?ti=icl\n\nFo
 r more information visit https://www.southeastwheelsevents.com/events/
 rims-amp-roasters-euro-meet
DTSTART;TZID=Pacific/Midway:20190629T090000
DTEND;TZID=Pacific/Midway:20190629T120000
CATEGORIES:networking, family, friendly
LOCATION:3448 Holly Springs Pkwy, Canton, GA 30115
WEBSITE:https://www.facebook.com/events/2412011129022671/?ti=icl
URL:https://www.facebook.com/events/2412011129022671/?ti=icl
CONTACT:
ORGANIZER;CN="Atlanta Euros":https://www.southeastwheelsevents.com/pro
 file/AtlantaEuros
ATTACH;FMTTYPE="image/jpeg":https://storage.ning.com/topology/rest/1.0
 /file/get/2820966312?profile=original
ATTENDEE;ROLE=REQ-PARTICIPANT;PARTSTAT=ACCEPTED;RSVP=TRUE;CN="Atlanta 
 Euros":https://www.southeastwheelsevents.com/profile/AtlantaEuros
END:VEVENT
END:VCALENDAR
