BEGIN:VCALENDAR
PRODID:NingEventWidget-v1
VERSION:2.0
METHOD:PUBLISH
BEGIN:VTIMEZONE
TZID:Pacific/Midway
X-LIC-LOCATION:Pacific/Midway
BEGIN:STANDARD
TZOFFSETFROM:-1100
TZOFFSETTO:-1100
TZNAME:SST
DTSTART:19700101T000000
END:STANDARD
END:VTIMEZONE
BEGIN:VEVENT
UID:5072275:Event:1080425
DTSTAMP:20260419T053819Z
SUMMARY:River Cities Model A Club Cruise In -Columbus, GA
DESCRIPTION:Our Club Philosophy\r\nTo unite in a central organization,
  all owners of Model A Fords who are interested in preserving and rest
 oring the automobile in a manner to attract prestige and respect withi
 n the community, and it shall further be the purpose of this club to h
 elp these owners become better acquainted, encourage and maintain amon
 g its members the spirit of good fellowship, sociality and fair play t
 hrough sponsored activities including the use of the Model A Ford and 
 family participation.\r\n\r\nWeekly Cruise-In Evenings\r\n\r\n\r\n1st 
 Tuesday - Cooks Hot Dog on Miller & Airport Thruway\r\n\r\n\r\n2nd Tue
 sday - Jim Bob's (by Hobby Lobby)\r\n\r\n\r\n3rd Tuesday - Jason Deli 
 at Columbus Park Crossing\r\n\r\n\r\n4th Tuesday - Country's on Broad
 way, Uptown Columbus\r\n\r\n\r\n5th Tuesday - El Vaquero Mexican Resta
 urant (Stadium Dr., Phenix City)\r\n\r\n\r\n2nd Saturday - Opelika Hom
 e Depot\r\n\r\n\r\n3rd Saturday - Phenix City Home Depot Cruise In (St
 arts March 18)\r\n\r\n\r\n4th Saturday - Steak and Shake, Bradley Park
  Drive\r\n\r\n\r\nEvery Sunday AM - IHOP Air Port Thruway\r\n\r\n\n\nF
 or more information visit https://www.southeastwheelsevents.com/events
 /river-cities-model-a-club-cruise-in-columbus-ga-10
DTSTART;TZID=Pacific/Midway:20180410T180000
DTEND;TZID=Pacific/Midway:20180410T200000
CATEGORIES:cruise, in, model, a, ford
LOCATION:Jim Bob's (by Hobby Lobby)
WEBSITE:http://www.rivercitiesrunningboard.com
URL:http://www.rivercitiesrunningboard.com
CONTACT:pres@rivercitiesrunningboard.com
ORGANIZER:River Cities Model A Club
ATTACH;FMTTYPE="image/jpeg":http://storage.ning.com/topology/rest/1.0/
 file/get/967760891?profile=original
ATTENDEE;ROLE=REQ-PARTICIPANT;PARTSTAT=ACCEPTED;RSVP=TRUE;CN="Chuck Aa
 ron":https://www.southeastwheelsevents.com/profile/ChuckAaron886
END:VEVENT
END:VCALENDAR
