BEGIN:VCALENDAR
PRODID:NingEventWidget-v1
VERSION:2.0
METHOD:PUBLISH
BEGIN:VTIMEZONE
TZID:Pacific/Midway
X-LIC-LOCATION:Pacific/Midway
BEGIN:STANDARD
TZOFFSETFROM:-1100
TZOFFSETTO:-1100
TZNAME:SST
DTSTART:19700101T000000
END:STANDARD
END:VTIMEZONE
BEGIN:VEVENT
UID:5072275:Event:693243
DTSTAMP:20260423T070550Z
SUMMARY:WERA Sportsman Series - Talladega Gran Prix Raceway -Munford, 
 AL
DESCRIPTION:T\nThe WERA Sportsman Series will be held at Talladega Gr
 an Prix Raceway in Munford, Alabama from August 22nd, 2015 to August 2
 3rd, 2015.\nLocation:\n-Talladega Gran Prix Raceway in Munford, Alabam
 a(46 Pilgrim Ln, Munford, AL 36268)\nPlease Contact For More Informati
 on:\n-(770) 720-5010\n\nFor more information visit https://www.southea
 stwheelsevents.com/events/road-atlanta-wera-sportsman-series-braselton
 -ga
DTSTART;TZID=Pacific/Midway:20150530T000000
DTEND;TZID=Pacific/Midway:20150531T235900
CATEGORIES:motorcycle, races, show
LOCATION:Talladega Gran Prix Raceway
WEBSITE:http://maps.wera.com/schedule/thisseason.asp?%3C%=linkvars%%3E
URL:http://maps.wera.com/schedule/thisseason.asp?%3C%=linkvars%%3E
CONTACT:(770) 720-5010
ORGANIZER:WERA
ATTACH;FMTTYPE="image/jpeg":http://storage.ning.com/topology/rest/1.0/
 file/get/967647129?profile=original
ATTENDEE;ROLE=REQ-PARTICIPANT;PARTSTAT=ACCEPTED;RSVP=TRUE;CN="Jack Tho
 mas":https://www.southeastwheelsevents.com/profile/JackThomas
END:VEVENT
END:VCALENDAR
