BEGIN:VCALENDAR
PRODID:NingEventWidget-v1
VERSION:2.0
METHOD:PUBLISH
BEGIN:VTIMEZONE
TZID:Pacific/Midway
X-LIC-LOCATION:Pacific/Midway
BEGIN:STANDARD
TZOFFSETFROM:-1100
TZOFFSETTO:-1100
TZNAME:SST
DTSTART:19700101T000000
END:STANDARD
END:VTIMEZONE
BEGIN:VEVENT
UID:5072275:Event:639696
DTSTAMP:20260423T180511Z
SUMMARY:Road Rebels Rod & Custom Car Club's Annual Open Car Show -Cent
 erville, GA
DESCRIPTION:top 25 open car show.participant judging at noon.7 best of
  trophies.plenty of door prizes.grand prize is 3 piece craftsman tool 
 chest &cabinet.all procedes will go to the rainbow house.\n\nFor more 
 information visit https://www.southeastwheelsevents.com/events/road-re
 bels-rod-custom-car-club-s-23rd-annual-open-car-show-in
DTSTART;TZID=Pacific/Midway:20150418T090000
DTEND;TZID=Pacific/Midway:20150418T160000
CATEGORIES:charity, benefits, the, rainbow, house, for, battered, "&",
  abused, children
LOCATION:office depot parking lot, beside steak & shake
WEBSITE:
URL:
CONTACT:478 953 2391
ORGANIZER:road rebels rod &custom car club
ATTACH;FMTTYPE="image/jpeg":http://storage.ning.com/topology/rest/1.0/
 file/get/967636611?profile=original
ATTENDEE;ROLE=REQ-PARTICIPANT;PARTSTAT=ACCEPTED;RSVP=TRUE;CN="steven w
 ade abercrombie":https://www.southeastwheelsevents.com/profile/stevenw
 adeabercrombie
ATTENDEE;ROLE=REQ-PARTICIPANT;PARTSTAT=TENTATIVE;RSVP=TRUE;CN="Bill Da
 vis":https://www.southeastwheelsevents.com/profile/BillDavis
END:VEVENT
END:VCALENDAR
