BEGIN:VCALENDAR
PRODID:NingEventWidget-v1
VERSION:2.0
METHOD:PUBLISH
BEGIN:VTIMEZONE
TZID:Pacific/Midway
X-LIC-LOCATION:Pacific/Midway
BEGIN:STANDARD
TZOFFSETFROM:-1100
TZOFFSETTO:-1100
TZNAME:SST
DTSTART:19700101T000000
END:STANDARD
END:VTIMEZONE
BEGIN:VEVENT
UID:5072275:Event:21486
DTSTAMP:20260423T134453Z
SUMMARY:Lions Club BBQ and Car Show -Asheville, NC
DESCRIPTION:Annual Road Warrior Car Show -Asheville, NC\n\nFor more in
 formation visit https://www.southeastwheelsevents.com/events/road-warr
 ior-car-show
DTSTART;TZID=Pacific/Midway:20240601T090000
DTEND;TZID=Pacific/Midway:20240601T130000
CATEGORIES:car-show, bbq
LOCATION:188 Erwin Hills Road
WEBSITE:
URL:
CONTACT:Jerry 828 776-3928
ORGANIZER:
ATTACH;FMTTYPE="image/jpeg":https://storage.ning.com/topology/rest/1.0
 /file/get/12621796461?profile=original
ATTENDEE;ROLE=REQ-PARTICIPANT;PARTSTAT=ACCEPTED;RSVP=TRUE;CN=Leroy:htt
 ps://www.southeastwheelsevents.com/profile/Leroy
END:VEVENT
END:VCALENDAR
