BEGIN:VCALENDAR
PRODID:NingEventWidget-v1
VERSION:2.0
METHOD:PUBLISH
BEGIN:VTIMEZONE
TZID:Pacific/Midway
X-LIC-LOCATION:Pacific/Midway
BEGIN:STANDARD
TZOFFSETFROM:-1100
TZOFFSETTO:-1100
TZNAME:SST
DTSTART:19700101T000000
END:STANDARD
END:VTIMEZONE
BEGIN:VEVENT
UID:5072275:Event:77748
DTSTAMP:20260424T162753Z
SUMMARY:ROANOKE CLASSIC CAR, TRUCK & MOTORCYCLE SHOW -Roanoke, AL
DESCRIPTION:ROANOKE CLASSIC CAR, TRUCK & MOTORCYCLE SHOW CRUSE-IN FOR 
 ST. JUDE AT JACK'S FAMILY RESTAURANT SATURDAY\n\nFor more information 
 visit https://www.southeastwheelsevents.com/events/roanoke-classic-car
 -truck
DTSTART;TZID=Pacific/Midway:20131026T150000
DTEND;TZID=Pacific/Midway:20131026T200000
CATEGORIES:cruise-in
LOCATION:HAPPY TRAILS RESTAURANT
WEBSITE:
URL:
CONTACT:334-338-1092, 334-885-6996
ORGANIZER:CLARK SHEPPARD & GLEN WILLIAMS
ATTACH;FMTTYPE="image/jpeg":http://storage.ning.com/topology/rest/1.0/
 file/get/967577339?profile=original
ATTENDEE;ROLE=REQ-PARTICIPANT;PARTSTAT=ACCEPTED;RSVP=TRUE;CN="Glen Wil
 liams":https://www.southeastwheelsevents.com/profile/GlenWilliams
END:VEVENT
END:VCALENDAR
