BEGIN:VCALENDAR
PRODID:NingEventWidget-v1
VERSION:2.0
METHOD:PUBLISH
BEGIN:VTIMEZONE
TZID:Pacific/Midway
X-LIC-LOCATION:Pacific/Midway
BEGIN:STANDARD
TZOFFSETFROM:-1100
TZOFFSETTO:-1100
TZNAME:SST
DTSTART:19700101T000000
END:STANDARD
END:VTIMEZONE
BEGIN:VEVENT
UID:5072275:Event:680000
DTSTAMP:20260419T053932Z
SUMMARY:Rockabilly Rock Out & Cruise In at Thunder Creek HD -Chattanoo
 ga, TN
DESCRIPTION:It's Back - The Party of the Year!  Rockabilly Rock Out & 
 Cruise In 2015 FREE ADMISSION!  Ride-in bike and car show - No Entry F
 ee Trophies in all categories. Cars and trucks please RSVP to contactt
 c@thecreekhd.com to assure your spot in the show.  Ms. TCHD Pin Up Con
 test Tattoo Contest   Live music by The Royal Hounds! High roller BMX 
 Stunt Show! The Chattanooga Roller Girls! The Dames Aflame!  Plus much
  more!  All ages, bikes and cars welcome!\n\n\nFor more information vi
 sit https://www.southeastwheelsevents.com/events/rockabilly-rock-out-c
 ruise-2013-in-at-thunder-creek-hd
DTSTART;TZID=Pacific/Midway:20160820T113000
DTEND;TZID=Pacific/Midway:20160820T170000
CATEGORIES:ride, in, bike, "&", car, show, -, rockabilly, style
LOCATION:Thunder Creek Harley-Davidson
WEBSITE:http://www.thundercreekharley.com/events.htm
URL:http://www.thundercreekharley.com/events.htm
CONTACT:Sandra 678-527-0650 X313, TCHD 423-892-4888
ORGANIZER:Thunder Creek Harley-Davidson
ATTACH;FMTTYPE="image/jpeg":http://storage.ning.com/topology/rest/1.0/
 file/get/967642035?profile=original
ATTENDEE;ROLE=REQ-PARTICIPANT;PARTSTAT=ACCEPTED;RSVP=TRUE;CN="The Cree
 k HD":https://www.southeastwheelsevents.com/profile/TheCreekHD393
ATTENDEE;ROLE=REQ-PARTICIPANT;PARTSTAT=TENTATIVE;RSVP=TRUE;CN="Chuck A
 aron":https://www.southeastwheelsevents.com/profile/ChuckAaron
END:VEVENT
END:VCALENDAR
