BEGIN:VCALENDAR
PRODID:NingEventWidget-v1
VERSION:2.0
METHOD:PUBLISH
BEGIN:VTIMEZONE
TZID:Pacific/Midway
X-LIC-LOCATION:Pacific/Midway
BEGIN:STANDARD
TZOFFSETFROM:-1100
TZOFFSETTO:-1100
TZNAME:SST
DTSTART:19700101T000000
END:STANDARD
END:VTIMEZONE
BEGIN:VEVENT
UID:5072275:Event:753764
DTSTAMP:20260419T092836Z
SUMMARY:Rockabilly Ruckus at Diesel Filling Station -Atlanta,GA
DESCRIPTION:\n\n\n\nToday\nat 9:00pm\n\nStarts in 2 hours · 68°F 
 Clear\n\n\n\n\n\n\n\n\n\n\n\n\n\nIt's a rock & roll throw down at Die
 sel Filling Station Friday March 21st!Join Reverend Andy as he spin
 s a night full of rockabilly and psychobilly music to get those feet m
 oving and gears grinding!You're guaranteed to hear hits from ELVIS PR
 ESLEY, Johnny Cash, The Chop Tops, Brian Setzer, Nekromantix, Joh
 nny Burnette, and much more!Slick up that pompadour, pin up those vict
 ory curls, and come rock out with music spanning the past 60 years!\n\
 n\n\nFor more information visit https://www.southeastwheelsevents.com/
 events/rockabilly-ruckus-at-diesel-filling-station-atlanta-ga
DTSTART;TZID=Pacific/Midway:20140321T210000
DTEND;TZID=Pacific/Midway:20140321T233000
CATEGORIES:rock, music, show
LOCATION:Diesel Filling Station
WEBSITE:https://www.facebook.com/events/1382002655407018/permalink/139
 3369390937011/
URL:https://www.facebook.com/events/1382002655407018/permalink/1393369
 390937011/
CONTACT:
ORGANIZER:Rev Andy
ATTACH;FMTTYPE="image/jpeg":http://storage.ning.com/topology/rest/1.0/
 file/get/967657925?profile=original
ATTENDEE;ROLE=REQ-PARTICIPANT;PARTSTAT=ACCEPTED;RSVP=TRUE;CN="Michael 
 Thies":https://www.southeastwheelsevents.com/profile/MichaelThies
END:VEVENT
END:VCALENDAR
