BEGIN:VCALENDAR
PRODID:NingEventWidget-v1
VERSION:2.0
METHOD:PUBLISH
BEGIN:VTIMEZONE
TZID:Pacific/Midway
X-LIC-LOCATION:Pacific/Midway
BEGIN:STANDARD
TZOFFSETFROM:-1100
TZOFFSETTO:-1100
TZNAME:SST
DTSTART:19700101T000000
END:STANDARD
END:VTIMEZONE
BEGIN:VEVENT
UID:5072275:Event:863349
DTSTAMP:20260425T073052Z
SUMMARY:Rod & Custom Car Show -Tulsa, OK
DESCRIPTION:The largest Car Show in the MidWest!\n\nFor more informati
 on visit https://www.southeastwheelsevents.com/events/rod-custom-car-s
 how-tulsa-ok
DTSTART;TZID=Pacific/Midway:20150220T000000
DTEND;TZID=Pacific/Midway:20150222T235900
CATEGORIES:car, show
LOCATION:River Spirit Center Fairgrounds
WEBSITE:
URL:
CONTACT:
ORGANIZER:Darryl Starbird
ATTACH;FMTTYPE="image/jpeg":
ATTENDEE;ROLE=REQ-PARTICIPANT;PARTSTAT=ACCEPTED;RSVP=TRUE;CN="Michael 
 Thies":https://www.southeastwheelsevents.com/profile/MichaelThies
END:VEVENT
END:VCALENDAR
