BEGIN:VCALENDAR
PRODID:NingEventWidget-v1
VERSION:2.0
METHOD:PUBLISH
BEGIN:VTIMEZONE
TZID:Pacific/Midway
X-LIC-LOCATION:Pacific/Midway
BEGIN:STANDARD
TZOFFSETFROM:-1100
TZOFFSETTO:-1100
TZNAME:SST
DTSTART:19700101T000000
END:STANDARD
END:VTIMEZONE
BEGIN:VEVENT
UID:5072275:Event:868011
DTSTAMP:20260424T100259Z
SUMMARY:Rodeheaver Boys' Ranch Show -Palatka, FL
DESCRIPTION:The First Coast F100/F1 will host the Rodeheaver Boys' Ra
 nch Show on 7 March 2015, here is the registration form. \nor\n \nRe
 gistration Fee paid via PayPal, click here.\n\n \n\nFor more informat
 ion visit https://www.southeastwheelsevents.com/events/rodeheaver-boys
 -ranch-show-palatka-fl
DTSTART;TZID=Pacific/Midway:20160312T080000
DTEND;TZID=Pacific/Midway:20160312T150000
CATEGORIES:truck, "&", car, show
LOCATION:Rodeheaver Boys' Ranch
WEBSITE:http://www.firstcoastf100f1.com/
URL:http://www.firstcoastf100f1.com/
CONTACT:Richard Wilson 904-757-8917, 904-591-6018
ORGANIZER:The First Coast F100/F1 Truck Club
ATTACH;FMTTYPE="image/jpeg":http://storage.ning.com/topology/rest/1.0/
 file/get/967683703?profile=original
ATTENDEE;ROLE=REQ-PARTICIPANT;PARTSTAT=ACCEPTED;RSVP=TRUE;CN="Chuck Aa
 ron":https://www.southeastwheelsevents.com/profile/ChuckAaron
END:VEVENT
END:VCALENDAR
