BEGIN:VCALENDAR
PRODID:NingEventWidget-v1
VERSION:2.0
METHOD:PUBLISH
BEGIN:VTIMEZONE
TZID:Pacific/Midway
X-LIC-LOCATION:Pacific/Midway
BEGIN:STANDARD
TZOFFSETFROM:-1100
TZOFFSETTO:-1100
TZNAME:SST
DTSTART:19700101T000000
END:STANDARD
END:VTIMEZONE
BEGIN:VEVENT
UID:5072275:Event:1103373
DTSTAMP:20260424T072107Z
SUMMARY:Rods and Wheels Cruise-In - Huntsville, Al
DESCRIPTION:Rods and Wheels Cruise-In at Ditto Landing, 293 Ditto Land
 ing Road SE.\n\nFor more information visit https://www.southeastwheels
 events.com/events/rods-and-wheels-cruise-in-huntsville-al
DTSTART;TZID=Pacific/Midway:20241102T100000
DTEND;TZID=Pacific/Midway:20241102T140000
CATEGORIES:car, show, cruise, in
LOCATION:Ditto Landing,
WEBSITE:
URL:
CONTACT:(256) 882-1057
ORGANIZER:
ATTACH;FMTTYPE="image/jpeg":http://storage.ning.com/topology/rest/1.0/
 file/get/967801403?profile=original
ATTENDEE;ROLE=REQ-PARTICIPANT;PARTSTAT=ACCEPTED;RSVP=TRUE;CN="Anthony 
 Hopkins":https://www.southeastwheelsevents.com/profile/AnthonyHopkins
END:VEVENT
END:VCALENDAR
