BEGIN:VCALENDAR
PRODID:NingEventWidget-v1
VERSION:2.0
METHOD:PUBLISH
BEGIN:VTIMEZONE
TZID:Pacific/Midway
X-LIC-LOCATION:Pacific/Midway
BEGIN:STANDARD
TZOFFSETFROM:-1100
TZOFFSETTO:-1100
TZNAME:SST
DTSTART:19700101T000000
END:STANDARD
END:VTIMEZONE
BEGIN:VEVENT
UID:5072275:Event:1060322
DTSTAMP:20260423T101838Z
SUMMARY:Rollin'For The Colon 1st Annual Car Show -Athens, GA
DESCRIPTION:\nALL PROCEEDS GO TO THE CANCER FOUNDATION\nTop 10 Cars - 
 50/50 Raffle - Door Prizes\nSaturday, July 28, 2018 9 a.m. – 2 p.m. 
 3320 Old Jefferson Rd\nAthens, Ga 30607\nAmanda Irwin: rollinforthecol
 on@gmail.com or (678)-227-3430\n \n“ We will have Food, Music, and 
 Fun for the whole family!”\n\n\n \n \n \n FB_IMG_1515464141142.j
 pg\n \n$15 at the day of the event\n\nFor more information visit http
 s://www.southeastwheelsevents.com/events/rollin-for-the-colon-1st-annu
 al-car-show
DTSTART;TZID=Pacific/Midway:20180728T090000
DTEND;TZID=Pacific/Midway:20180728T140000
CATEGORIES:fundraiser, car, show
LOCATION:Athens Medical Specialty Park
WEBSITE:
URL:
CONTACT:678-227*3430
ORGANIZER;CN="amanda irwin":https://www.southeastwheelsevents.com/prof
 ile/amandairwin
ATTACH;FMTTYPE="image/jpeg":
ATTENDEE;ROLE=REQ-PARTICIPANT;PARTSTAT=ACCEPTED;RSVP=TRUE;CN="amanda i
 rwin":https://www.southeastwheelsevents.com/profile/amandairwin
END:VEVENT
END:VCALENDAR
