BEGIN:VCALENDAR
PRODID:NingEventWidget-v1
VERSION:2.0
METHOD:PUBLISH
BEGIN:VTIMEZONE
TZID:Pacific/Midway
X-LIC-LOCATION:Pacific/Midway
BEGIN:STANDARD
TZOFFSETFROM:-1100
TZOFFSETTO:-1100
TZNAME:SST
DTSTART:19700101T000000
END:STANDARD
END:VTIMEZONE
BEGIN:VEVENT
UID:5072275:Event:407019
DTSTAMP:20260420T080304Z
SUMMARY:\"Rolling on the River Cruise-In\" -Geneva, AL
DESCRIPTION:5:00 PM Downtown Geneva, Al.17 Sept. 2011  $5.00 Register
  Fee. 1st. 100Gets 1 T-Shirt For Each Entry.  More Information Call W
 ayne Mixon 334-4490839 or Jerry C. Mixon 334-449-2079  8th. Annual Ev
 ent.  D-Jay- Door-Prizes Fun For All Free Admission For Specatoters,\
 n\nFor more information visit https://www.southeastwheelsevents.com/ev
 ents/rolling-on-the-river-cruise-in-1
DTSTART;TZID=Pacific/Midway:20110917T170000
DTEND;TZID=Pacific/Midway:20110917T200000
CATEGORIES:car-truck-bike, show
LOCATION:Geneva, Alabama
WEBSITE:
URL:
CONTACT:334-449-0839  334-449-2079
ORGANIZER;CN="Jerry C. Mixon":https://www.southeastwheelsevents.com/pr
 ofile/JerryCMixon
ATTACH;FMTTYPE="image/jpeg":
ATTENDEE;ROLE=REQ-PARTICIPANT;PARTSTAT=ACCEPTED;RSVP=TRUE;CN="Jerry C.
  Mixon":https://www.southeastwheelsevents.com/profile/JerryCMixon
END:VEVENT
END:VCALENDAR
