BEGIN:VCALENDAR
PRODID:NingEventWidget-v1
VERSION:2.0
METHOD:PUBLISH
BEGIN:VTIMEZONE
TZID:Pacific/Midway
X-LIC-LOCATION:Pacific/Midway
BEGIN:STANDARD
TZOFFSETFROM:-1100
TZOFFSETTO:-1100
TZNAME:SST
DTSTART:19700101T000000
END:STANDARD
END:VTIMEZONE
BEGIN:VEVENT
UID:5072275:Event:728698
DTSTAMP:20260423T000308Z
SUMMARY:ROLLING STEEL CLASSIC AUTO AUCTION -Hampton, GA
DESCRIPTION:Where else can you take your classic car, truck, motorcycl
 e, boat, ATV, Automobilia to sell to a target international collector'
 s market who are groomed and shopping for your vehicle now? CONSIGN FO
 R FREE.... AND get FREE AUCTION access... all by a CERTIFIED APPRAISER
 .... with your set reserve.... and dealer commission from 10% (Max!) t
 o ZERO, that's right, 0%... I know! It's crazy! Who does that?! Steve 
 at Four Seasons Auction Gallery does that! And he's clearing out space
  to make room for MORE!\nNeed money FAST? Set your price for resale, c
 ome on and make a deal!.... He's Buying too! See? NO ONE around else c
 an promise all of that!\nIn the market to Buy a Classic? They are maki
 ng it super affordable to do just that! Did I mention his commission i
 s as low as ZERO?!  They are motivated to sell what you have and have
  over thirty years of tremendous success doing just that! Last auction
 .... STANDING ROOM ONLY with online bidders biting at the bit from aro
 und the WORLD!\nGet in EARLY for the next Auction so your vehicle or f
 avorite Man Cave item can be previewed in advance to get Buyer's READY
  TO BID and BUY your Classic!\nYou don't have something to sell? No pr
 oblem! They offer a REFERRAL BONUS so spread the word and tell your fr
 iends, your club, perfect strangers with classics for sale! Earn free 
 cash with your referral! Or just come out for the CRUISE IN, grab a bi
 te to eat and shop the amazing finds at the Antique Mall while you bro
 wse for those Auction Deals!\nNOTE: Did you know that if you see somet
 hing you really like, you can REQUEST it for auction that day? Have yo
 u been to an auction lately?  It's more fun than you remember!\nEMAIL
  COA for an invitation to the EXCLUSIVE SNEAK PEEK PREVIEW PARTY! memb
 ers@classicownersalliance.com\n\n\nFor more information visit https://
 www.southeastwheelsevents.com/events/rolling-steel-classic-auto-auctio
 n
DTSTART;TZID=Pacific/Midway:20140426T000000
DTEND;TZID=Pacific/Midway:20140427T235900
CATEGORIES:auto, auction, and, car, show
LOCATION:Atlanta Motor Speedway
WEBSITE:http://www.fsagallery.com
URL:http://www.fsagallery.com
CONTACT:404-876-1048
ORGANIZER:Four Seasons Auction Gallery
ATTACH;FMTTYPE="image/jpeg":http://storage.ning.com/topology/rest/1.0/
 file/get/967653243?profile=original
ATTENDEE;ROLE=REQ-PARTICIPANT;PARTSTAT=ACCEPTED;RSVP=TRUE;CN="Michael 
 Thies":https://www.southeastwheelsevents.com/profile/MichaelThies
ATTENDEE;ROLE=REQ-PARTICIPANT;PARTSTAT=ACCEPTED;RSVP=TRUE;CN="Classic 
 Owner's Alliance":https://www.southeastwheelsevents.com/profile/Classi
 cOwnersAlliance
END:VEVENT
END:VCALENDAR
