BEGIN:VCALENDAR
PRODID:NingEventWidget-v1
VERSION:2.0
METHOD:PUBLISH
BEGIN:VTIMEZONE
TZID:Pacific/Midway
X-LIC-LOCATION:Pacific/Midway
BEGIN:STANDARD
TZOFFSETFROM:-1100
TZOFFSETTO:-1100
TZNAME:SST
DTSTART:19700101T000000
END:STANDARD
END:VTIMEZONE
BEGIN:VEVENT
UID:5072275:Event:1074259
DTSTAMP:20260419T010759Z
SUMMARY:Rollout to StanceNation ATL -Athens, GA
DESCRIPTION:\r\n\r\n\r\n\r\n\r\n\r\n\r\nRollout to StanceNation ATL\r\
 n\r\n\r\n\r\n\r\n\r\n\r\n\r\n\r\n\r\nRoll out to StanceNation ATL!!! L
 ets get a big group and mob the streets to ATL. Invite your friends, m
 others, daughters, sisters, wives, & children. Time is set for 9AM whi
 ch will give us about an hour and a half mini meet and we can head out
  at at 10:30 because I’m sure we will hit traffic! Allowing us to ar
 rive 12:30/1:00 which is when the event begins!\r\n\n\nFor more inform
 ation visit https://www.southeastwheelsevents.com/events/rollout-to-st
 ancenation-atl-athens-ga
DTSTART;TZID=Pacific/Midway:20171203T090000
DTEND;TZID=Pacific/Midway:20171203T103000
CATEGORIES:car, shiw, meet
LOCATION:Georgia Square Mall
WEBSITE:https://www.facebook.com/events/1513268168768918/
URL:https://www.facebook.com/events/1513268168768918/
CONTACT:
ORGANIZER:Naciff Neto and Edgar Rosales
ATTACH;FMTTYPE="image/jpeg":http://storage.ning.com/topology/rest/1.0/
 file/get/967756934?profile=original
ATTENDEE;ROLE=REQ-PARTICIPANT;PARTSTAT=ACCEPTED;RSVP=TRUE;CN="Chuck Aa
 ron":https://www.southeastwheelsevents.com/profile/ChuckAaron886
END:VEVENT
END:VCALENDAR
