BEGIN:VCALENDAR
PRODID:NingEventWidget-v1
VERSION:2.0
METHOD:PUBLISH
BEGIN:VTIMEZONE
TZID:Pacific/Midway
X-LIC-LOCATION:Pacific/Midway
BEGIN:STANDARD
TZOFFSETFROM:-1100
TZOFFSETTO:-1100
TZNAME:SST
DTSTART:19700101T000000
END:STANDARD
END:VTIMEZONE
BEGIN:VEVENT
UID:5072275:Event:1160836
DTSTAMP:20260423T062320Z
SUMMARY:Romeo
DESCRIPTION:Romeo at Marietta Diner cruise in and breakfast \n\nFor m
 ore information visit https://www.southeastwheelsevents.com/events/rom
 eo-2
DTSTART;TZID=Pacific/Midway:20190409T070000
DTEND;TZID=Pacific/Midway:20190409T090000
CATEGORIES:cruise, in
LOCATION:Marietta diner
WEBSITE:
URL:
CONTACT:
ORGANIZER:Dik Wesson jim (MOPAR JIM )nelson
ATTACH;FMTTYPE="image/jpeg":
ATTENDEE;ROLE=REQ-PARTICIPANT;PARTSTAT=ACCEPTED;RSVP=TRUE;CN="jim (MOP
 AR JIM )nelson":https://www.southeastwheelsevents.com/profile/jimnelso
 n877
END:VEVENT
END:VCALENDAR
