BEGIN:VCALENDAR
PRODID:NingEventWidget-v1
VERSION:2.0
METHOD:PUBLISH
BEGIN:VTIMEZONE
TZID:Pacific/Midway
X-LIC-LOCATION:Pacific/Midway
BEGIN:STANDARD
TZOFFSETFROM:-1100
TZOFFSETTO:-1100
TZNAME:SST
DTSTART:19700101T000000
END:STANDARD
END:VTIMEZONE
BEGIN:VEVENT
UID:5072275:Event:1018601
DTSTAMP:20260419T054205Z
SUMMARY:ROMEO BREAKFAST CRUISE IN -MARIETTA GA
DESCRIPTION:ROMEO BREAKFAST CRUISE IN EACH TUESDAY MARIETTA DINER 306 
 COBB PKWY S MARIETTA GA\n\nFor more information visit https://www.sout
 heastwheelsevents.com/events/romeo-breakfast-cruise-in-each-tuesday-ma
 rietta-diner-306-cobb-1
DTSTART;TZID=Pacific/Midway:20170131T070000
DTEND;TZID=Pacific/Midway:20170131T090000
CATEGORIES:romeo, breakfast, cruise, in, each, tuesday, marietta, dine
 r, 306, cobb, pkwy, s, ga
LOCATION:Marietta Diner
WEBSITE:
URL:
CONTACT:
ORGANIZER:DIK WESSON
ATTACH;FMTTYPE="image/jpeg":
ATTENDEE;ROLE=REQ-PARTICIPANT;PARTSTAT=ACCEPTED;RSVP=TRUE;CN="Chuck Aa
 ron":https://www.southeastwheelsevents.com/profile/ChuckAaron886
ATTENDEE;ROLE=REQ-PARTICIPANT;PARTSTAT=ACCEPTED;RSVP=TRUE;CN="jim (MOP
 AR JIM )nelson":https://www.southeastwheelsevents.com/profile/jimnelso
 n877
END:VEVENT
END:VCALENDAR
