BEGIN:VCALENDAR
PRODID:NingEventWidget-v1
VERSION:2.0
METHOD:PUBLISH
BEGIN:VTIMEZONE
TZID:Pacific/Midway
X-LIC-LOCATION:Pacific/Midway
BEGIN:STANDARD
TZOFFSETFROM:-1100
TZOFFSETTO:-1100
TZNAME:SST
DTSTART:19700101T000000
END:STANDARD
END:VTIMEZONE
BEGIN:VEVENT
UID:5072275:Event:1017564
DTSTAMP:20260423T072119Z
SUMMARY:ROMEO BREAKFAST CRUISE IN EACH TUESDAY MARIETTA DINER 306 COBB
  PKWY S MARIETTA GA
DESCRIPTION:ROMEO BREAKFAST CRUISE IN EACH TUESDAY MARIETTA DINER 306 
 COBB PKWY S MARIETTA GA\n\nFor more information visit https://www.sout
 heastwheelsevents.com/events/romeo-breakfast-cruise-in-each-tuesday-ma
 rietta-diner-306-cobb-4
DTSTART;TZID=Pacific/Midway:20170214T070000
DTEND;TZID=Pacific/Midway:20170214T090000
CATEGORIES:romeo, breakfast, cruise, in, each, tuesday, marietta, dine
 r, 306, cobb, pkwy, s, ga
LOCATION:ROMEO BREAKFAST CRUISE IN EACH TUESDAY MARIETTA DINER 306 COB
 B PKWY S MARIETTA GA
WEBSITE:
URL:
CONTACT:
ORGANIZER:DIK WESSON
ATTACH;FMTTYPE="image/jpeg":
ATTENDEE;ROLE=REQ-PARTICIPANT;PARTSTAT=ACCEPTED;RSVP=TRUE;CN="jim (MOP
 AR JIM )nelson":https://www.southeastwheelsevents.com/profile/jimnelso
 n877
END:VEVENT
END:VCALENDAR
