BEGIN:VCALENDAR
PRODID:NingEventWidget-v1
VERSION:2.0
METHOD:PUBLISH
BEGIN:VTIMEZONE
TZID:Pacific/Midway
X-LIC-LOCATION:Pacific/Midway
BEGIN:STANDARD
TZOFFSETFROM:-1100
TZOFFSETTO:-1100
TZNAME:SST
DTSTART:19700101T000000
END:STANDARD
END:VTIMEZONE
BEGIN:VEVENT
UID:5072275:Event:470836
DTSTAMP:20260420T224917Z
SUMMARY:ROMEO Breakfast - Marietta, GA
DESCRIPTION:ROMEO (Retired Old Men Eating Out) Breakfast - Free Gather
 ing of Classics, Hot Rods, Exotics and Sports Cars!  Come In For
  Breakfast or Just Hang Out! Every third Saturday of the Month - Year 
 Around.  No hoods open and no chairs please.\n\nFor more information 
 visit https://www.southeastwheelsevents.com/events/romeo-breakfast-san
 dy-springs-ga-1
DTSTART;TZID=Pacific/Midway:20140118T083000
DTEND;TZID=Pacific/Midway:20140118T110000
CATEGORIES:free, gathering
LOCATION:Panera Bread at the Avenues
WEBSITE:
URL:
CONTACT:(678) 290-8784
ORGANIZER:ROMEOs
ATTACH;FMTTYPE="image/jpeg":http://storage.ning.com/topology/rest/1.0/
 file/get/967604437?profile=original
ATTENDEE;ROLE=REQ-PARTICIPANT;PARTSTAT=ACCEPTED;RSVP=TRUE;CN="Michael 
 Thies":https://www.southeastwheelsevents.com/profile/MichaelThies
END:VEVENT
END:VCALENDAR
