BEGIN:VCALENDAR
PRODID:NingEventWidget-v1
VERSION:2.0
METHOD:PUBLISH
BEGIN:VTIMEZONE
TZID:Pacific/Midway
X-LIC-LOCATION:Pacific/Midway
BEGIN:STANDARD
TZOFFSETFROM:-1100
TZOFFSETTO:-1100
TZNAME:SST
DTSTART:19700101T000000
END:STANDARD
END:VTIMEZONE
BEGIN:VEVENT
UID:5072275:Event:1018633
DTSTAMP:20260423T195723Z
SUMMARY:ROMEO CRUISE IN AND BREAKFAST -Marietta, GA
DESCRIPTION:CRUISE IN BREAKFAST EVERY TUESDAY\n\nFor more information 
 visit https://www.southeastwheelsevents.com/events/romeo-cruise-in-and
 -breakfast
DTSTART;TZID=Pacific/Midway:20161122T070000
DTEND;TZID=Pacific/Midway:20161122T090000
CATEGORIES:cruise, in, breakfast
LOCATION:MARIETTA DINER
WEBSITE:
URL:
CONTACT:
ORGANIZER:DIK WESSON
ATTACH;FMTTYPE="image/jpeg":
ATTENDEE;ROLE=REQ-PARTICIPANT;PARTSTAT=ACCEPTED;RSVP=TRUE;CN="Michael 
 Thies":https://www.southeastwheelsevents.com/profile/MichaelThies
ATTENDEE;ROLE=REQ-PARTICIPANT;PARTSTAT=ACCEPTED;RSVP=TRUE;CN="jim (MOP
 AR JIM )nelson":https://www.southeastwheelsevents.com/profile/jimnelso
 n877
END:VEVENT
END:VCALENDAR
