BEGIN:VCALENDAR
PRODID:NingEventWidget-v1
VERSION:2.0
METHOD:PUBLISH
BEGIN:VTIMEZONE
TZID:Pacific/Midway
X-LIC-LOCATION:Pacific/Midway
BEGIN:STANDARD
TZOFFSETFROM:-1100
TZOFFSETTO:-1100
TZNAME:SST
DTSTART:19700101T000000
END:STANDARD
END:VTIMEZONE
BEGIN:VEVENT
UID:5072275:Event:1018751
DTSTAMP:20260423T163142Z
SUMMARY:romeos
DESCRIPTION:breakfast cruise in every tuesday\n\nFor more information 
 visit https://www.southeastwheelsevents.com/events/romeos-1
DTSTART;TZID=Pacific/Midway:20170404T070000
DTEND;TZID=Pacific/Midway:20170404T090000
CATEGORIES:breakfast, cruise, in
LOCATION:marietta diner
WEBSITE:
URL:
CONTACT:
ORGANIZER:dik wesson
ATTACH;FMTTYPE="image/jpeg":
ATTENDEE;ROLE=REQ-PARTICIPANT;PARTSTAT=ACCEPTED;RSVP=TRUE;CN="jim (MOP
 AR JIM )nelson":https://www.southeastwheelsevents.com/profile/jimnelso
 n877
END:VEVENT
END:VCALENDAR
