BEGIN:VCALENDAR
PRODID:NingEventWidget-v1
VERSION:2.0
METHOD:PUBLISH
BEGIN:VTIMEZONE
TZID:Pacific/Midway
X-LIC-LOCATION:Pacific/Midway
BEGIN:STANDARD
TZOFFSETFROM:-1100
TZOFFSETTO:-1100
TZNAME:SST
DTSTART:19700101T000000
END:STANDARD
END:VTIMEZONE
BEGIN:VEVENT
UID:5072275:Event:1160702
DTSTAMP:20260419T050250Z
SUMMARY:Romeos
DESCRIPTION:cruise in\n\nFor more information visit https://www.southe
 astwheelsevents.com/events/romeos-9
DTSTART;TZID=Pacific/Midway:20190702T060000
DTEND;TZID=Pacific/Midway:20190702T090000
CATEGORIES:cruise, in
LOCATION:Marietta diner
WEBSITE:
URL:
CONTACT:
ORGANIZER:Dik wesson
ATTACH;FMTTYPE="image/jpeg":
ATTENDEE;ROLE=REQ-PARTICIPANT;PARTSTAT=ACCEPTED;RSVP=TRUE;CN="jim (MOP
 AR JIM )nelson":https://www.southeastwheelsevents.com/profile/jimnelso
 n877
END:VEVENT
END:VCALENDAR
