BEGIN:VCALENDAR
PRODID:NingEventWidget-v1
VERSION:2.0
METHOD:PUBLISH
BEGIN:VTIMEZONE
TZID:Pacific/Midway
X-LIC-LOCATION:Pacific/Midway
BEGIN:STANDARD
TZOFFSETFROM:-1100
TZOFFSETTO:-1100
TZNAME:SST
DTSTART:19700101T000000
END:STANDARD
END:VTIMEZONE
BEGIN:VEVENT
UID:5072275:Event:1053307
DTSTAMP:20260420T043406Z
SUMMARY:Romeos breakfast n cruise in Marietta ga
DESCRIPTION:Romeo's breakfast and a cruise in at Marietta diner\n\nFor
  more information visit https://www.southeastwheelsevents.com/events/r
 omeos-breakfast-n-cruise-in-marietta-ga
DTSTART;TZID=Pacific/Midway:20230314T070000
DTEND;TZID=Pacific/Midway:20230314T090000
CATEGORIES:"romeo's", breakfast, and, a, cruise, in, at, marietta, din
 er
LOCATION:Marietta Diner co
WEBSITE:
URL:
CONTACT:
ORGANIZER:Dik Wesson
ATTACH;FMTTYPE="image/jpeg":
ATTENDEE;ROLE=REQ-PARTICIPANT;PARTSTAT=ACCEPTED;RSVP=TRUE;CN="jim (MOP
 AR JIM )nelson":https://www.southeastwheelsevents.com/profile/jimnelso
 n877
END:VEVENT
END:VCALENDAR
